BEGIN:VCALENDAR
VERSION:2.0
PRODID:-//Doras - ECPv6.15.11//NONSGML v1.0//EN
CALSCALE:GREGORIAN
METHOD:PUBLISH
X-WR-CALNAME:Doras
X-ORIGINAL-URL:https://doras.nl
X-WR-CALDESC:Evenementen voor Doras
REFRESH-INTERVAL;VALUE=DURATION:PT1H
X-Robots-Tag:noindex
X-PUBLISHED-TTL:PT1H
BEGIN:VTIMEZONE
TZID:UTC
BEGIN:STANDARD
TZOFFSETFROM:+0000
TZOFFSETTO:+0000
TZNAME:UTC
DTSTART:20180101T000000
END:STANDARD
END:VTIMEZONE
BEGIN:VEVENT
DTSTART;TZID=UTC:20200310T140000
DTEND;TZID=UTC:20200310T170000
DTSTAMP:20260422T024811
CREATED:20190919T095731Z
LAST-MODIFIED:20210602T081827Z
UID:10013895-1583848800-1583859600@doras.nl
SUMMARY:Inloopspreekuur voor Brazilianen (Portugees)
DESCRIPTION:Door het coronavirus gaat deze activiteit niet door. Wij hopen snel weer een nieuwe datum te kunnen plannen. \nBraziliaans Maatschappelijk Werker FlÃ¡via Ramos Costa zit voor je klaar om vragen te beantwoorden en hulp te bieden.Â Het spreekuur is in het Portugees. \nBen jij zelf hulpverlener en heb je Brazilianen in je caseload? Dan mag je ze doorverwijzen naar FlÃ¡via.Â  \nVragen\, informatie\, overleg of verwijzing?\nFlÃ¡via Ramos Costa\, 06 â€“ 8289 0003\, flavia@compassosocial.nl. \n  \nLiever naar een inloop op zaterdag? Kijk hier voor de data. \n 
URL:https://doras.nl/event/inloopspreekuur-voor-brazilianen-portugees/2020-03-10/
LOCATION:Bellamystraat 382\, Bellamystraat 382\, Amsterdam\, 1053BM
CATEGORIES:Geld en administratie,Ontspanning en ontmoeting,Wetten en regels
ATTACH;FMTTYPE=image/png:https://doras.nl/wp-content/uploads/2019/09/Dienstverlening-Brazilianen.png
END:VEVENT
BEGIN:VEVENT
DTSTART;TZID=UTC:20200303T140000
DTEND;TZID=UTC:20200303T170000
DTSTAMP:20260422T024811
CREATED:20190919T095731Z
LAST-MODIFIED:20210602T081827Z
UID:10013894-1583244000-1583254800@doras.nl
SUMMARY:Inloopspreekuur voor Brazilianen (Portugees)
DESCRIPTION:Door het coronavirus gaat deze activiteit niet door. Wij hopen snel weer een nieuwe datum te kunnen plannen. \nBraziliaans Maatschappelijk Werker FlÃ¡via Ramos Costa zit voor je klaar om vragen te beantwoorden en hulp te bieden.Â Het spreekuur is in het Portugees. \nBen jij zelf hulpverlener en heb je Brazilianen in je caseload? Dan mag je ze doorverwijzen naar FlÃ¡via.Â  \nVragen\, informatie\, overleg of verwijzing?\nFlÃ¡via Ramos Costa\, 06 â€“ 8289 0003\, flavia@compassosocial.nl. \n  \nLiever naar een inloop op zaterdag? Kijk hier voor de data. \n 
URL:https://doras.nl/event/inloopspreekuur-voor-brazilianen-portugees/2020-03-03/
LOCATION:Bellamystraat 382\, Bellamystraat 382\, Amsterdam\, 1053BM
CATEGORIES:Geld en administratie,Ontspanning en ontmoeting,Wetten en regels
ATTACH;FMTTYPE=image/png:https://doras.nl/wp-content/uploads/2019/09/Dienstverlening-Brazilianen.png
END:VEVENT
BEGIN:VEVENT
DTSTART;TZID=UTC:20200225T140000
DTEND;TZID=UTC:20200225T170000
DTSTAMP:20260422T024811
CREATED:20190919T095731Z
LAST-MODIFIED:20210602T081827Z
UID:10013893-1582639200-1582650000@doras.nl
SUMMARY:Inloopspreekuur voor Brazilianen (Portugees)
DESCRIPTION:Door het coronavirus gaat deze activiteit niet door. Wij hopen snel weer een nieuwe datum te kunnen plannen. \nBraziliaans Maatschappelijk Werker FlÃ¡via Ramos Costa zit voor je klaar om vragen te beantwoorden en hulp te bieden.Â Het spreekuur is in het Portugees. \nBen jij zelf hulpverlener en heb je Brazilianen in je caseload? Dan mag je ze doorverwijzen naar FlÃ¡via.Â  \nVragen\, informatie\, overleg of verwijzing?\nFlÃ¡via Ramos Costa\, 06 â€“ 8289 0003\, flavia@compassosocial.nl. \n  \nLiever naar een inloop op zaterdag? Kijk hier voor de data. \n 
URL:https://doras.nl/event/inloopspreekuur-voor-brazilianen-portugees/2020-02-25/
LOCATION:Bellamystraat 382\, Bellamystraat 382\, Amsterdam\, 1053BM
CATEGORIES:Geld en administratie,Ontspanning en ontmoeting,Wetten en regels
ATTACH;FMTTYPE=image/png:https://doras.nl/wp-content/uploads/2019/09/Dienstverlening-Brazilianen.png
END:VEVENT
BEGIN:VEVENT
DTSTART;TZID=UTC:20200218T140000
DTEND;TZID=UTC:20200218T170000
DTSTAMP:20260422T024811
CREATED:20190919T095731Z
LAST-MODIFIED:20210602T081827Z
UID:10013892-1582034400-1582045200@doras.nl
SUMMARY:Inloopspreekuur voor Brazilianen (Portugees)
DESCRIPTION:Door het coronavirus gaat deze activiteit niet door. Wij hopen snel weer een nieuwe datum te kunnen plannen. \nBraziliaans Maatschappelijk Werker FlÃ¡via Ramos Costa zit voor je klaar om vragen te beantwoorden en hulp te bieden.Â Het spreekuur is in het Portugees. \nBen jij zelf hulpverlener en heb je Brazilianen in je caseload? Dan mag je ze doorverwijzen naar FlÃ¡via.Â  \nVragen\, informatie\, overleg of verwijzing?\nFlÃ¡via Ramos Costa\, 06 â€“ 8289 0003\, flavia@compassosocial.nl. \n  \nLiever naar een inloop op zaterdag? Kijk hier voor de data. \n 
URL:https://doras.nl/event/inloopspreekuur-voor-brazilianen-portugees/2020-02-18/
LOCATION:Bellamystraat 382\, Bellamystraat 382\, Amsterdam\, 1053BM
CATEGORIES:Geld en administratie,Ontspanning en ontmoeting,Wetten en regels
ATTACH;FMTTYPE=image/png:https://doras.nl/wp-content/uploads/2019/09/Dienstverlening-Brazilianen.png
END:VEVENT
BEGIN:VEVENT
DTSTART;TZID=UTC:20200211T140000
DTEND;TZID=UTC:20200211T170000
DTSTAMP:20260422T024811
CREATED:20190919T095731Z
LAST-MODIFIED:20210602T081827Z
UID:10013891-1581429600-1581440400@doras.nl
SUMMARY:Inloopspreekuur voor Brazilianen (Portugees)
DESCRIPTION:Door het coronavirus gaat deze activiteit niet door. Wij hopen snel weer een nieuwe datum te kunnen plannen. \nBraziliaans Maatschappelijk Werker FlÃ¡via Ramos Costa zit voor je klaar om vragen te beantwoorden en hulp te bieden.Â Het spreekuur is in het Portugees. \nBen jij zelf hulpverlener en heb je Brazilianen in je caseload? Dan mag je ze doorverwijzen naar FlÃ¡via.Â  \nVragen\, informatie\, overleg of verwijzing?\nFlÃ¡via Ramos Costa\, 06 â€“ 8289 0003\, flavia@compassosocial.nl. \n  \nLiever naar een inloop op zaterdag? Kijk hier voor de data. \n 
URL:https://doras.nl/event/inloopspreekuur-voor-brazilianen-portugees/2020-02-11/
LOCATION:Bellamystraat 382\, Bellamystraat 382\, Amsterdam\, 1053BM
CATEGORIES:Geld en administratie,Ontspanning en ontmoeting,Wetten en regels
ATTACH;FMTTYPE=image/png:https://doras.nl/wp-content/uploads/2019/09/Dienstverlening-Brazilianen.png
END:VEVENT
BEGIN:VEVENT
DTSTART;TZID=UTC:20200204T140000
DTEND;TZID=UTC:20200204T170000
DTSTAMP:20260422T024811
CREATED:20190919T095731Z
LAST-MODIFIED:20210602T081827Z
UID:10013890-1580824800-1580835600@doras.nl
SUMMARY:Inloopspreekuur voor Brazilianen (Portugees)
DESCRIPTION:Door het coronavirus gaat deze activiteit niet door. Wij hopen snel weer een nieuwe datum te kunnen plannen. \nBraziliaans Maatschappelijk Werker FlÃ¡via Ramos Costa zit voor je klaar om vragen te beantwoorden en hulp te bieden.Â Het spreekuur is in het Portugees. \nBen jij zelf hulpverlener en heb je Brazilianen in je caseload? Dan mag je ze doorverwijzen naar FlÃ¡via.Â  \nVragen\, informatie\, overleg of verwijzing?\nFlÃ¡via Ramos Costa\, 06 â€“ 8289 0003\, flavia@compassosocial.nl. \n  \nLiever naar een inloop op zaterdag? Kijk hier voor de data. \n 
URL:https://doras.nl/event/inloopspreekuur-voor-brazilianen-portugees/2020-02-04/
LOCATION:Bellamystraat 382\, Bellamystraat 382\, Amsterdam\, 1053BM
CATEGORIES:Geld en administratie,Ontspanning en ontmoeting,Wetten en regels
ATTACH;FMTTYPE=image/png:https://doras.nl/wp-content/uploads/2019/09/Dienstverlening-Brazilianen.png
END:VEVENT
BEGIN:VEVENT
DTSTART;TZID=UTC:20200128T140000
DTEND;TZID=UTC:20200128T170000
DTSTAMP:20260422T024811
CREATED:20190919T095731Z
LAST-MODIFIED:20210602T081827Z
UID:10013889-1580220000-1580230800@doras.nl
SUMMARY:Inloopspreekuur voor Brazilianen (Portugees)
DESCRIPTION:Door het coronavirus gaat deze activiteit niet door. Wij hopen snel weer een nieuwe datum te kunnen plannen. \nBraziliaans Maatschappelijk Werker FlÃ¡via Ramos Costa zit voor je klaar om vragen te beantwoorden en hulp te bieden.Â Het spreekuur is in het Portugees. \nBen jij zelf hulpverlener en heb je Brazilianen in je caseload? Dan mag je ze doorverwijzen naar FlÃ¡via.Â  \nVragen\, informatie\, overleg of verwijzing?\nFlÃ¡via Ramos Costa\, 06 â€“ 8289 0003\, flavia@compassosocial.nl. \n  \nLiever naar een inloop op zaterdag? Kijk hier voor de data. \n 
URL:https://doras.nl/event/inloopspreekuur-voor-brazilianen-portugees/2020-01-28/
LOCATION:Bellamystraat 382\, Bellamystraat 382\, Amsterdam\, 1053BM
CATEGORIES:Geld en administratie,Ontspanning en ontmoeting,Wetten en regels
ATTACH;FMTTYPE=image/png:https://doras.nl/wp-content/uploads/2019/09/Dienstverlening-Brazilianen.png
END:VEVENT
BEGIN:VEVENT
DTSTART;TZID=UTC:20200121T140000
DTEND;TZID=UTC:20200121T170000
DTSTAMP:20260422T024811
CREATED:20190919T095731Z
LAST-MODIFIED:20210602T081827Z
UID:10013888-1579615200-1579626000@doras.nl
SUMMARY:Inloopspreekuur voor Brazilianen (Portugees)
DESCRIPTION:Door het coronavirus gaat deze activiteit niet door. Wij hopen snel weer een nieuwe datum te kunnen plannen. \nBraziliaans Maatschappelijk Werker FlÃ¡via Ramos Costa zit voor je klaar om vragen te beantwoorden en hulp te bieden.Â Het spreekuur is in het Portugees. \nBen jij zelf hulpverlener en heb je Brazilianen in je caseload? Dan mag je ze doorverwijzen naar FlÃ¡via.Â  \nVragen\, informatie\, overleg of verwijzing?\nFlÃ¡via Ramos Costa\, 06 â€“ 8289 0003\, flavia@compassosocial.nl. \n  \nLiever naar een inloop op zaterdag? Kijk hier voor de data. \n 
URL:https://doras.nl/event/inloopspreekuur-voor-brazilianen-portugees/2020-01-21/
LOCATION:Bellamystraat 382\, Bellamystraat 382\, Amsterdam\, 1053BM
CATEGORIES:Geld en administratie,Ontspanning en ontmoeting,Wetten en regels
ATTACH;FMTTYPE=image/png:https://doras.nl/wp-content/uploads/2019/09/Dienstverlening-Brazilianen.png
END:VEVENT
BEGIN:VEVENT
DTSTART;TZID=UTC:20200114T140000
DTEND;TZID=UTC:20200114T170000
DTSTAMP:20260422T024811
CREATED:20190919T095731Z
LAST-MODIFIED:20210602T081827Z
UID:10013887-1579010400-1579021200@doras.nl
SUMMARY:Inloopspreekuur voor Brazilianen (Portugees)
DESCRIPTION:Door het coronavirus gaat deze activiteit niet door. Wij hopen snel weer een nieuwe datum te kunnen plannen. \nBraziliaans Maatschappelijk Werker FlÃ¡via Ramos Costa zit voor je klaar om vragen te beantwoorden en hulp te bieden.Â Het spreekuur is in het Portugees. \nBen jij zelf hulpverlener en heb je Brazilianen in je caseload? Dan mag je ze doorverwijzen naar FlÃ¡via.Â  \nVragen\, informatie\, overleg of verwijzing?\nFlÃ¡via Ramos Costa\, 06 â€“ 8289 0003\, flavia@compassosocial.nl. \n  \nLiever naar een inloop op zaterdag? Kijk hier voor de data. \n 
URL:https://doras.nl/event/inloopspreekuur-voor-brazilianen-portugees/2020-01-14/
LOCATION:Bellamystraat 382\, Bellamystraat 382\, Amsterdam\, 1053BM
CATEGORIES:Geld en administratie,Ontspanning en ontmoeting,Wetten en regels
ATTACH;FMTTYPE=image/png:https://doras.nl/wp-content/uploads/2019/09/Dienstverlening-Brazilianen.png
END:VEVENT
BEGIN:VEVENT
DTSTART;TZID=UTC:20200107T140000
DTEND;TZID=UTC:20200107T170000
DTSTAMP:20260422T024811
CREATED:20190919T095731Z
LAST-MODIFIED:20210602T081827Z
UID:10013886-1578405600-1578416400@doras.nl
SUMMARY:Inloopspreekuur voor Brazilianen (Portugees)
DESCRIPTION:Door het coronavirus gaat deze activiteit niet door. Wij hopen snel weer een nieuwe datum te kunnen plannen. \nBraziliaans Maatschappelijk Werker FlÃ¡via Ramos Costa zit voor je klaar om vragen te beantwoorden en hulp te bieden.Â Het spreekuur is in het Portugees. \nBen jij zelf hulpverlener en heb je Brazilianen in je caseload? Dan mag je ze doorverwijzen naar FlÃ¡via.Â  \nVragen\, informatie\, overleg of verwijzing?\nFlÃ¡via Ramos Costa\, 06 â€“ 8289 0003\, flavia@compassosocial.nl. \n  \nLiever naar een inloop op zaterdag? Kijk hier voor de data. \n 
URL:https://doras.nl/event/inloopspreekuur-voor-brazilianen-portugees/2020-01-07/
LOCATION:Bellamystraat 382\, Bellamystraat 382\, Amsterdam\, 1053BM
CATEGORIES:Geld en administratie,Ontspanning en ontmoeting,Wetten en regels
ATTACH;FMTTYPE=image/png:https://doras.nl/wp-content/uploads/2019/09/Dienstverlening-Brazilianen.png
END:VEVENT
BEGIN:VEVENT
DTSTART;TZID=UTC:20191231T140000
DTEND;TZID=UTC:20191231T170000
DTSTAMP:20260422T024811
CREATED:20190919T095731Z
LAST-MODIFIED:20210602T081827Z
UID:10013885-1577800800-1577811600@doras.nl
SUMMARY:Inloopspreekuur voor Brazilianen (Portugees)
DESCRIPTION:Door het coronavirus gaat deze activiteit niet door. Wij hopen snel weer een nieuwe datum te kunnen plannen. \nBraziliaans Maatschappelijk Werker FlÃ¡via Ramos Costa zit voor je klaar om vragen te beantwoorden en hulp te bieden.Â Het spreekuur is in het Portugees. \nBen jij zelf hulpverlener en heb je Brazilianen in je caseload? Dan mag je ze doorverwijzen naar FlÃ¡via.Â  \nVragen\, informatie\, overleg of verwijzing?\nFlÃ¡via Ramos Costa\, 06 â€“ 8289 0003\, flavia@compassosocial.nl. \n  \nLiever naar een inloop op zaterdag? Kijk hier voor de data. \n 
URL:https://doras.nl/event/inloopspreekuur-voor-brazilianen-portugees/2019-12-31/
LOCATION:Bellamystraat 382\, Bellamystraat 382\, Amsterdam\, 1053BM
CATEGORIES:Geld en administratie,Ontspanning en ontmoeting,Wetten en regels
ATTACH;FMTTYPE=image/png:https://doras.nl/wp-content/uploads/2019/09/Dienstverlening-Brazilianen.png
END:VEVENT
BEGIN:VEVENT
DTSTART;TZID=UTC:20191224T140000
DTEND;TZID=UTC:20191224T170000
DTSTAMP:20260422T024811
CREATED:20190919T095731Z
LAST-MODIFIED:20210602T081827Z
UID:10013884-1577196000-1577206800@doras.nl
SUMMARY:Inloopspreekuur voor Brazilianen (Portugees)
DESCRIPTION:Door het coronavirus gaat deze activiteit niet door. Wij hopen snel weer een nieuwe datum te kunnen plannen. \nBraziliaans Maatschappelijk Werker FlÃ¡via Ramos Costa zit voor je klaar om vragen te beantwoorden en hulp te bieden.Â Het spreekuur is in het Portugees. \nBen jij zelf hulpverlener en heb je Brazilianen in je caseload? Dan mag je ze doorverwijzen naar FlÃ¡via.Â  \nVragen\, informatie\, overleg of verwijzing?\nFlÃ¡via Ramos Costa\, 06 â€“ 8289 0003\, flavia@compassosocial.nl. \n  \nLiever naar een inloop op zaterdag? Kijk hier voor de data. \n 
URL:https://doras.nl/event/inloopspreekuur-voor-brazilianen-portugees/2019-12-24/
LOCATION:Bellamystraat 382\, Bellamystraat 382\, Amsterdam\, 1053BM
CATEGORIES:Geld en administratie,Ontspanning en ontmoeting,Wetten en regels
ATTACH;FMTTYPE=image/png:https://doras.nl/wp-content/uploads/2019/09/Dienstverlening-Brazilianen.png
END:VEVENT
BEGIN:VEVENT
DTSTART;TZID=UTC:20191217T140000
DTEND;TZID=UTC:20191217T170000
DTSTAMP:20260422T024811
CREATED:20190919T095731Z
LAST-MODIFIED:20210602T081827Z
UID:10013883-1576591200-1576602000@doras.nl
SUMMARY:Inloopspreekuur voor Brazilianen (Portugees)
DESCRIPTION:Door het coronavirus gaat deze activiteit niet door. Wij hopen snel weer een nieuwe datum te kunnen plannen. \nBraziliaans Maatschappelijk Werker FlÃ¡via Ramos Costa zit voor je klaar om vragen te beantwoorden en hulp te bieden.Â Het spreekuur is in het Portugees. \nBen jij zelf hulpverlener en heb je Brazilianen in je caseload? Dan mag je ze doorverwijzen naar FlÃ¡via.Â  \nVragen\, informatie\, overleg of verwijzing?\nFlÃ¡via Ramos Costa\, 06 â€“ 8289 0003\, flavia@compassosocial.nl. \n  \nLiever naar een inloop op zaterdag? Kijk hier voor de data. \n 
URL:https://doras.nl/event/inloopspreekuur-voor-brazilianen-portugees/2019-12-17/
LOCATION:Bellamystraat 382\, Bellamystraat 382\, Amsterdam\, 1053BM
CATEGORIES:Geld en administratie,Ontspanning en ontmoeting,Wetten en regels
ATTACH;FMTTYPE=image/png:https://doras.nl/wp-content/uploads/2019/09/Dienstverlening-Brazilianen.png
END:VEVENT
BEGIN:VEVENT
DTSTART;TZID=UTC:20191210T140000
DTEND;TZID=UTC:20191210T170000
DTSTAMP:20260422T024811
CREATED:20190919T095731Z
LAST-MODIFIED:20210602T081827Z
UID:10013882-1575986400-1575997200@doras.nl
SUMMARY:Inloopspreekuur voor Brazilianen (Portugees)
DESCRIPTION:Door het coronavirus gaat deze activiteit niet door. Wij hopen snel weer een nieuwe datum te kunnen plannen. \nBraziliaans Maatschappelijk Werker FlÃ¡via Ramos Costa zit voor je klaar om vragen te beantwoorden en hulp te bieden.Â Het spreekuur is in het Portugees. \nBen jij zelf hulpverlener en heb je Brazilianen in je caseload? Dan mag je ze doorverwijzen naar FlÃ¡via.Â  \nVragen\, informatie\, overleg of verwijzing?\nFlÃ¡via Ramos Costa\, 06 â€“ 8289 0003\, flavia@compassosocial.nl. \n  \nLiever naar een inloop op zaterdag? Kijk hier voor de data. \n 
URL:https://doras.nl/event/inloopspreekuur-voor-brazilianen-portugees/2019-12-10/
LOCATION:Bellamystraat 382\, Bellamystraat 382\, Amsterdam\, 1053BM
CATEGORIES:Geld en administratie,Ontspanning en ontmoeting,Wetten en regels
ATTACH;FMTTYPE=image/png:https://doras.nl/wp-content/uploads/2019/09/Dienstverlening-Brazilianen.png
END:VEVENT
BEGIN:VEVENT
DTSTART;TZID=UTC:20191203T140000
DTEND;TZID=UTC:20191203T170000
DTSTAMP:20260422T024811
CREATED:20190919T095731Z
LAST-MODIFIED:20210602T081827Z
UID:10013881-1575381600-1575392400@doras.nl
SUMMARY:Inloopspreekuur voor Brazilianen (Portugees)
DESCRIPTION:Door het coronavirus gaat deze activiteit niet door. Wij hopen snel weer een nieuwe datum te kunnen plannen. \nBraziliaans Maatschappelijk Werker FlÃ¡via Ramos Costa zit voor je klaar om vragen te beantwoorden en hulp te bieden.Â Het spreekuur is in het Portugees. \nBen jij zelf hulpverlener en heb je Brazilianen in je caseload? Dan mag je ze doorverwijzen naar FlÃ¡via.Â  \nVragen\, informatie\, overleg of verwijzing?\nFlÃ¡via Ramos Costa\, 06 â€“ 8289 0003\, flavia@compassosocial.nl. \n  \nLiever naar een inloop op zaterdag? Kijk hier voor de data. \n 
URL:https://doras.nl/event/inloopspreekuur-voor-brazilianen-portugees/2019-12-03/
LOCATION:Bellamystraat 382\, Bellamystraat 382\, Amsterdam\, 1053BM
CATEGORIES:Geld en administratie,Ontspanning en ontmoeting,Wetten en regels
ATTACH;FMTTYPE=image/png:https://doras.nl/wp-content/uploads/2019/09/Dienstverlening-Brazilianen.png
END:VEVENT
BEGIN:VEVENT
DTSTART;TZID=UTC:20191126T140000
DTEND;TZID=UTC:20191126T170000
DTSTAMP:20260422T024811
CREATED:20190919T095731Z
LAST-MODIFIED:20210602T081827Z
UID:10013880-1574776800-1574787600@doras.nl
SUMMARY:Inloopspreekuur voor Brazilianen (Portugees)
DESCRIPTION:Door het coronavirus gaat deze activiteit niet door. Wij hopen snel weer een nieuwe datum te kunnen plannen. \nBraziliaans Maatschappelijk Werker FlÃ¡via Ramos Costa zit voor je klaar om vragen te beantwoorden en hulp te bieden.Â Het spreekuur is in het Portugees. \nBen jij zelf hulpverlener en heb je Brazilianen in je caseload? Dan mag je ze doorverwijzen naar FlÃ¡via.Â  \nVragen\, informatie\, overleg of verwijzing?\nFlÃ¡via Ramos Costa\, 06 â€“ 8289 0003\, flavia@compassosocial.nl. \n  \nLiever naar een inloop op zaterdag? Kijk hier voor de data. \n 
URL:https://doras.nl/event/inloopspreekuur-voor-brazilianen-portugees/2019-11-26/
LOCATION:Bellamystraat 382\, Bellamystraat 382\, Amsterdam\, 1053BM
CATEGORIES:Geld en administratie,Ontspanning en ontmoeting,Wetten en regels
ATTACH;FMTTYPE=image/png:https://doras.nl/wp-content/uploads/2019/09/Dienstverlening-Brazilianen.png
END:VEVENT
BEGIN:VEVENT
DTSTART;TZID=UTC:20191119T140000
DTEND;TZID=UTC:20191119T170000
DTSTAMP:20260422T024811
CREATED:20190919T095731Z
LAST-MODIFIED:20210602T081827Z
UID:10013879-1574172000-1574182800@doras.nl
SUMMARY:Inloopspreekuur voor Brazilianen (Portugees)
DESCRIPTION:Door het coronavirus gaat deze activiteit niet door. Wij hopen snel weer een nieuwe datum te kunnen plannen. \nBraziliaans Maatschappelijk Werker FlÃ¡via Ramos Costa zit voor je klaar om vragen te beantwoorden en hulp te bieden.Â Het spreekuur is in het Portugees. \nBen jij zelf hulpverlener en heb je Brazilianen in je caseload? Dan mag je ze doorverwijzen naar FlÃ¡via.Â  \nVragen\, informatie\, overleg of verwijzing?\nFlÃ¡via Ramos Costa\, 06 â€“ 8289 0003\, flavia@compassosocial.nl. \n  \nLiever naar een inloop op zaterdag? Kijk hier voor de data. \n 
URL:https://doras.nl/event/inloopspreekuur-voor-brazilianen-portugees/2019-11-19/
LOCATION:Bellamystraat 382\, Bellamystraat 382\, Amsterdam\, 1053BM
CATEGORIES:Geld en administratie,Ontspanning en ontmoeting,Wetten en regels
ATTACH;FMTTYPE=image/png:https://doras.nl/wp-content/uploads/2019/09/Dienstverlening-Brazilianen.png
END:VEVENT
BEGIN:VEVENT
DTSTART;TZID=UTC:20191112T140000
DTEND;TZID=UTC:20191112T170000
DTSTAMP:20260422T024811
CREATED:20190919T095731Z
LAST-MODIFIED:20210602T081827Z
UID:10013878-1573567200-1573578000@doras.nl
SUMMARY:Inloopspreekuur voor Brazilianen (Portugees)
DESCRIPTION:Door het coronavirus gaat deze activiteit niet door. Wij hopen snel weer een nieuwe datum te kunnen plannen. \nBraziliaans Maatschappelijk Werker FlÃ¡via Ramos Costa zit voor je klaar om vragen te beantwoorden en hulp te bieden.Â Het spreekuur is in het Portugees. \nBen jij zelf hulpverlener en heb je Brazilianen in je caseload? Dan mag je ze doorverwijzen naar FlÃ¡via.Â  \nVragen\, informatie\, overleg of verwijzing?\nFlÃ¡via Ramos Costa\, 06 â€“ 8289 0003\, flavia@compassosocial.nl. \n  \nLiever naar een inloop op zaterdag? Kijk hier voor de data. \n 
URL:https://doras.nl/event/inloopspreekuur-voor-brazilianen-portugees/2019-11-12/
LOCATION:Bellamystraat 382\, Bellamystraat 382\, Amsterdam\, 1053BM
CATEGORIES:Geld en administratie,Ontspanning en ontmoeting,Wetten en regels
ATTACH;FMTTYPE=image/png:https://doras.nl/wp-content/uploads/2019/09/Dienstverlening-Brazilianen.png
END:VEVENT
BEGIN:VEVENT
DTSTART;TZID=UTC:20191105T140000
DTEND;TZID=UTC:20191105T170000
DTSTAMP:20260422T024811
CREATED:20190919T095731Z
LAST-MODIFIED:20210602T081827Z
UID:10013877-1572962400-1572973200@doras.nl
SUMMARY:Inloopspreekuur voor Brazilianen (Portugees)
DESCRIPTION:Door het coronavirus gaat deze activiteit niet door. Wij hopen snel weer een nieuwe datum te kunnen plannen. \nBraziliaans Maatschappelijk Werker FlÃ¡via Ramos Costa zit voor je klaar om vragen te beantwoorden en hulp te bieden.Â Het spreekuur is in het Portugees. \nBen jij zelf hulpverlener en heb je Brazilianen in je caseload? Dan mag je ze doorverwijzen naar FlÃ¡via.Â  \nVragen\, informatie\, overleg of verwijzing?\nFlÃ¡via Ramos Costa\, 06 â€“ 8289 0003\, flavia@compassosocial.nl. \n  \nLiever naar een inloop op zaterdag? Kijk hier voor de data. \n 
URL:https://doras.nl/event/inloopspreekuur-voor-brazilianen-portugees/2019-11-05/
LOCATION:Bellamystraat 382\, Bellamystraat 382\, Amsterdam\, 1053BM
CATEGORIES:Geld en administratie,Ontspanning en ontmoeting,Wetten en regels
ATTACH;FMTTYPE=image/png:https://doras.nl/wp-content/uploads/2019/09/Dienstverlening-Brazilianen.png
END:VEVENT
BEGIN:VEVENT
DTSTART;TZID=UTC:20191029T140000
DTEND;TZID=UTC:20191029T170000
DTSTAMP:20260422T024811
CREATED:20190919T095731Z
LAST-MODIFIED:20210602T081827Z
UID:10013876-1572357600-1572368400@doras.nl
SUMMARY:Inloopspreekuur voor Brazilianen (Portugees)
DESCRIPTION:Door het coronavirus gaat deze activiteit niet door. Wij hopen snel weer een nieuwe datum te kunnen plannen. \nBraziliaans Maatschappelijk Werker FlÃ¡via Ramos Costa zit voor je klaar om vragen te beantwoorden en hulp te bieden.Â Het spreekuur is in het Portugees. \nBen jij zelf hulpverlener en heb je Brazilianen in je caseload? Dan mag je ze doorverwijzen naar FlÃ¡via.Â  \nVragen\, informatie\, overleg of verwijzing?\nFlÃ¡via Ramos Costa\, 06 â€“ 8289 0003\, flavia@compassosocial.nl. \n  \nLiever naar een inloop op zaterdag? Kijk hier voor de data. \n 
URL:https://doras.nl/event/inloopspreekuur-voor-brazilianen-portugees/2019-10-29/
LOCATION:Bellamystraat 382\, Bellamystraat 382\, Amsterdam\, 1053BM
CATEGORIES:Geld en administratie,Ontspanning en ontmoeting,Wetten en regels
ATTACH;FMTTYPE=image/png:https://doras.nl/wp-content/uploads/2019/09/Dienstverlening-Brazilianen.png
END:VEVENT
BEGIN:VEVENT
DTSTART;TZID=UTC:20191022T140000
DTEND;TZID=UTC:20191022T170000
DTSTAMP:20260422T024811
CREATED:20190919T095731Z
LAST-MODIFIED:20210602T081827Z
UID:10013875-1571752800-1571763600@doras.nl
SUMMARY:Inloopspreekuur voor Brazilianen (Portugees)
DESCRIPTION:Door het coronavirus gaat deze activiteit niet door. Wij hopen snel weer een nieuwe datum te kunnen plannen. \nBraziliaans Maatschappelijk Werker FlÃ¡via Ramos Costa zit voor je klaar om vragen te beantwoorden en hulp te bieden.Â Het spreekuur is in het Portugees. \nBen jij zelf hulpverlener en heb je Brazilianen in je caseload? Dan mag je ze doorverwijzen naar FlÃ¡via.Â  \nVragen\, informatie\, overleg of verwijzing?\nFlÃ¡via Ramos Costa\, 06 â€“ 8289 0003\, flavia@compassosocial.nl. \n  \nLiever naar een inloop op zaterdag? Kijk hier voor de data. \n 
URL:https://doras.nl/event/inloopspreekuur-voor-brazilianen-portugees/2019-10-22/
LOCATION:Bellamystraat 382\, Bellamystraat 382\, Amsterdam\, 1053BM
CATEGORIES:Geld en administratie,Ontspanning en ontmoeting,Wetten en regels
ATTACH;FMTTYPE=image/png:https://doras.nl/wp-content/uploads/2019/09/Dienstverlening-Brazilianen.png
END:VEVENT
BEGIN:VEVENT
DTSTART;TZID=UTC:20191015T140000
DTEND;TZID=UTC:20191015T170000
DTSTAMP:20260422T024811
CREATED:20190919T095731Z
LAST-MODIFIED:20210602T081827Z
UID:10013874-1571148000-1571158800@doras.nl
SUMMARY:Inloopspreekuur voor Brazilianen (Portugees)
DESCRIPTION:Door het coronavirus gaat deze activiteit niet door. Wij hopen snel weer een nieuwe datum te kunnen plannen. \nBraziliaans Maatschappelijk Werker FlÃ¡via Ramos Costa zit voor je klaar om vragen te beantwoorden en hulp te bieden.Â Het spreekuur is in het Portugees. \nBen jij zelf hulpverlener en heb je Brazilianen in je caseload? Dan mag je ze doorverwijzen naar FlÃ¡via.Â  \nVragen\, informatie\, overleg of verwijzing?\nFlÃ¡via Ramos Costa\, 06 â€“ 8289 0003\, flavia@compassosocial.nl. \n  \nLiever naar een inloop op zaterdag? Kijk hier voor de data. \n 
URL:https://doras.nl/event/inloopspreekuur-voor-brazilianen-portugees/2019-10-15/
LOCATION:Bellamystraat 382\, Bellamystraat 382\, Amsterdam\, 1053BM
CATEGORIES:Geld en administratie,Ontspanning en ontmoeting,Wetten en regels
ATTACH;FMTTYPE=image/png:https://doras.nl/wp-content/uploads/2019/09/Dienstverlening-Brazilianen.png
END:VEVENT
BEGIN:VEVENT
DTSTART;TZID=UTC:20191008T140000
DTEND;TZID=UTC:20191008T170000
DTSTAMP:20260422T024811
CREATED:20190919T095731Z
LAST-MODIFIED:20210602T081827Z
UID:10013873-1570543200-1570554000@doras.nl
SUMMARY:Inloopspreekuur voor Brazilianen (Portugees)
DESCRIPTION:Door het coronavirus gaat deze activiteit niet door. Wij hopen snel weer een nieuwe datum te kunnen plannen. \nBraziliaans Maatschappelijk Werker FlÃ¡via Ramos Costa zit voor je klaar om vragen te beantwoorden en hulp te bieden.Â Het spreekuur is in het Portugees. \nBen jij zelf hulpverlener en heb je Brazilianen in je caseload? Dan mag je ze doorverwijzen naar FlÃ¡via.Â  \nVragen\, informatie\, overleg of verwijzing?\nFlÃ¡via Ramos Costa\, 06 â€“ 8289 0003\, flavia@compassosocial.nl. \n  \nLiever naar een inloop op zaterdag? Kijk hier voor de data. \n 
URL:https://doras.nl/event/inloopspreekuur-voor-brazilianen-portugees/2019-10-08/
LOCATION:Bellamystraat 382\, Bellamystraat 382\, Amsterdam\, 1053BM
CATEGORIES:Geld en administratie,Ontspanning en ontmoeting,Wetten en regels
ATTACH;FMTTYPE=image/png:https://doras.nl/wp-content/uploads/2019/09/Dienstverlening-Brazilianen.png
END:VEVENT
BEGIN:VEVENT
DTSTART;TZID=UTC:20191001T140000
DTEND;TZID=UTC:20191001T170000
DTSTAMP:20260422T024811
CREATED:20190919T095731Z
LAST-MODIFIED:20210602T081827Z
UID:10013872-1569938400-1569949200@doras.nl
SUMMARY:Inloopspreekuur voor Brazilianen (Portugees)
DESCRIPTION:Door het coronavirus gaat deze activiteit niet door. Wij hopen snel weer een nieuwe datum te kunnen plannen. \nBraziliaans Maatschappelijk Werker FlÃ¡via Ramos Costa zit voor je klaar om vragen te beantwoorden en hulp te bieden.Â Het spreekuur is in het Portugees. \nBen jij zelf hulpverlener en heb je Brazilianen in je caseload? Dan mag je ze doorverwijzen naar FlÃ¡via.Â  \nVragen\, informatie\, overleg of verwijzing?\nFlÃ¡via Ramos Costa\, 06 â€“ 8289 0003\, flavia@compassosocial.nl. \n  \nLiever naar een inloop op zaterdag? Kijk hier voor de data. \n 
URL:https://doras.nl/event/inloopspreekuur-voor-brazilianen-portugees/2019-10-01/
LOCATION:Bellamystraat 382\, Bellamystraat 382\, Amsterdam\, 1053BM
CATEGORIES:Geld en administratie,Ontspanning en ontmoeting,Wetten en regels
ATTACH;FMTTYPE=image/png:https://doras.nl/wp-content/uploads/2019/09/Dienstverlening-Brazilianen.png
END:VEVENT
BEGIN:VEVENT
DTSTART;TZID=UTC:20190927T173000
DTEND;TZID=UTC:20190927T203000
DTSTAMP:20260422T024811
CREATED:20190919T095722Z
LAST-MODIFIED:20190919T095722Z
UID:10013983-1569605400-1569616200@doras.nl
SUMMARY:Informatiebijeenkomst Brazilianen (Portugees)
DESCRIPTION:Deze informatiebijeenkomst is speciaal voor Brazilianen. Hier kun je meer informatie krijgen over welzijn\, financiÃ«n\, schulden en de Nederlandse maatschappij. De informatiebijeenkomst is in het Portugees. \nBen jij zelf hulpverlener en heb je Brazilianen in je caseload? Dan mag je ze doorverwijzen naar FlÃ¡via.Â  \nVragen\, informatie\, overleg of verwijzing?\nFlÃ¡via Ramos Costa\, 06 â€“ 8289 0003\, flavia@compassosocial.nl.
URL:https://doras.nl/event/informatiebijeenkomst-brazilianen-portugees/
LOCATION:Bellamystraat 382\, Bellamystraat 382\, Amsterdam\, 1053BM
CATEGORIES:Geld en administratie,Gezondheid en bewegen,Ontspanning en ontmoeting,Wetten en regels
ATTACH;FMTTYPE=image/png:https://doras.nl/wp-content/uploads/2019/09/Dienstverlening-Brazilianen.png
END:VEVENT
END:VCALENDAR