BEGIN:VCALENDAR
VERSION:2.0
PRODID:-//Doras - ECPv6.15.11//NONSGML v1.0//EN
CALSCALE:GREGORIAN
METHOD:PUBLISH
X-WR-CALNAME:Doras
X-ORIGINAL-URL:https://doras.nl
X-WR-CALDESC:Evenementen voor Doras
REFRESH-INTERVAL;VALUE=DURATION:PT1H
X-Robots-Tag:noindex
X-PUBLISHED-TTL:PT1H
BEGIN:VTIMEZONE
TZID:UTC
BEGIN:STANDARD
TZOFFSETFROM:+0000
TZOFFSETTO:+0000
TZNAME:UTC
DTSTART:20170101T000000
END:STANDARD
END:VTIMEZONE
BEGIN:VEVENT
DTSTART;TZID=UTC:20190617T130000
DTEND;TZID=UTC:20190617T140000
DTSTAMP:20260421T121020
CREATED:20180709T125701Z
LAST-MODIFIED:20210204T105046Z
UID:10011022-1560776400-1560780000@doras.nl
SUMMARY:Wandelgroep Banne Buiksloot
DESCRIPTION:Door het coronavirus gaat deze activiteit niet door. Wij hopen snel weer een nieuwe datum te kunnen plannen. \nHou je van wandelen en wil je dit niet alleen doen? Wandelgroep Bannedok nodigt je uit om samen te wandelen. \nWat gaan we doen?\nSamen wandelen en een kopje koffie of thee drinken. \nWaar?\nVertrek vanaf Huis van de Wijk de Banne\, in winkelcentrum de Banne. \n 
URL:https://doras.nl/event/wandelgroep-banne-buiksloot/2019-06-17/
LOCATION:Huis van de Wijk De Banne\, Bezaanjachtplein 24\, Amsterdam\, 1034 DN
CATEGORIES:Gezondheid en bewegen,Ontspanning en ontmoeting
ATTACH;FMTTYPE=image/jpeg:https://doras.nl/wp-content/uploads/2018/07/DSC7810-e1531140435465.jpg
END:VEVENT
BEGIN:VEVENT
DTSTART;TZID=UTC:20190610T130000
DTEND;TZID=UTC:20190610T140000
DTSTAMP:20260421T121020
CREATED:20180709T125701Z
LAST-MODIFIED:20210204T105046Z
UID:10011021-1560171600-1560175200@doras.nl
SUMMARY:Wandelgroep Banne Buiksloot
DESCRIPTION:Door het coronavirus gaat deze activiteit niet door. Wij hopen snel weer een nieuwe datum te kunnen plannen. \nHou je van wandelen en wil je dit niet alleen doen? Wandelgroep Bannedok nodigt je uit om samen te wandelen. \nWat gaan we doen?\nSamen wandelen en een kopje koffie of thee drinken. \nWaar?\nVertrek vanaf Huis van de Wijk de Banne\, in winkelcentrum de Banne. \n 
URL:https://doras.nl/event/wandelgroep-banne-buiksloot/2019-06-10/
LOCATION:Huis van de Wijk De Banne\, Bezaanjachtplein 24\, Amsterdam\, 1034 DN
CATEGORIES:Gezondheid en bewegen,Ontspanning en ontmoeting
ATTACH;FMTTYPE=image/jpeg:https://doras.nl/wp-content/uploads/2018/07/DSC7810-e1531140435465.jpg
END:VEVENT
BEGIN:VEVENT
DTSTART;TZID=UTC:20190603T130000
DTEND;TZID=UTC:20190603T140000
DTSTAMP:20260421T121020
CREATED:20180709T125701Z
LAST-MODIFIED:20210204T105046Z
UID:10011020-1559566800-1559570400@doras.nl
SUMMARY:Wandelgroep Banne Buiksloot
DESCRIPTION:Door het coronavirus gaat deze activiteit niet door. Wij hopen snel weer een nieuwe datum te kunnen plannen. \nHou je van wandelen en wil je dit niet alleen doen? Wandelgroep Bannedok nodigt je uit om samen te wandelen. \nWat gaan we doen?\nSamen wandelen en een kopje koffie of thee drinken. \nWaar?\nVertrek vanaf Huis van de Wijk de Banne\, in winkelcentrum de Banne. \n 
URL:https://doras.nl/event/wandelgroep-banne-buiksloot/2019-06-03/
LOCATION:Huis van de Wijk De Banne\, Bezaanjachtplein 24\, Amsterdam\, 1034 DN
CATEGORIES:Gezondheid en bewegen,Ontspanning en ontmoeting
ATTACH;FMTTYPE=image/jpeg:https://doras.nl/wp-content/uploads/2018/07/DSC7810-e1531140435465.jpg
END:VEVENT
BEGIN:VEVENT
DTSTART;TZID=UTC:20190527T130000
DTEND;TZID=UTC:20190527T140000
DTSTAMP:20260421T121020
CREATED:20180709T125701Z
LAST-MODIFIED:20210204T105046Z
UID:10011019-1558962000-1558965600@doras.nl
SUMMARY:Wandelgroep Banne Buiksloot
DESCRIPTION:Door het coronavirus gaat deze activiteit niet door. Wij hopen snel weer een nieuwe datum te kunnen plannen. \nHou je van wandelen en wil je dit niet alleen doen? Wandelgroep Bannedok nodigt je uit om samen te wandelen. \nWat gaan we doen?\nSamen wandelen en een kopje koffie of thee drinken. \nWaar?\nVertrek vanaf Huis van de Wijk de Banne\, in winkelcentrum de Banne. \n 
URL:https://doras.nl/event/wandelgroep-banne-buiksloot/2019-05-27/
LOCATION:Huis van de Wijk De Banne\, Bezaanjachtplein 24\, Amsterdam\, 1034 DN
CATEGORIES:Gezondheid en bewegen,Ontspanning en ontmoeting
ATTACH;FMTTYPE=image/jpeg:https://doras.nl/wp-content/uploads/2018/07/DSC7810-e1531140435465.jpg
END:VEVENT
BEGIN:VEVENT
DTSTART;TZID=UTC:20190520T130000
DTEND;TZID=UTC:20190520T140000
DTSTAMP:20260421T121020
CREATED:20180709T125701Z
LAST-MODIFIED:20210204T105046Z
UID:10011018-1558357200-1558360800@doras.nl
SUMMARY:Wandelgroep Banne Buiksloot
DESCRIPTION:Door het coronavirus gaat deze activiteit niet door. Wij hopen snel weer een nieuwe datum te kunnen plannen. \nHou je van wandelen en wil je dit niet alleen doen? Wandelgroep Bannedok nodigt je uit om samen te wandelen. \nWat gaan we doen?\nSamen wandelen en een kopje koffie of thee drinken. \nWaar?\nVertrek vanaf Huis van de Wijk de Banne\, in winkelcentrum de Banne. \n 
URL:https://doras.nl/event/wandelgroep-banne-buiksloot/2019-05-20/
LOCATION:Huis van de Wijk De Banne\, Bezaanjachtplein 24\, Amsterdam\, 1034 DN
CATEGORIES:Gezondheid en bewegen,Ontspanning en ontmoeting
ATTACH;FMTTYPE=image/jpeg:https://doras.nl/wp-content/uploads/2018/07/DSC7810-e1531140435465.jpg
END:VEVENT
BEGIN:VEVENT
DTSTART;TZID=UTC:20190513T130000
DTEND;TZID=UTC:20190513T140000
DTSTAMP:20260421T121020
CREATED:20180709T125701Z
LAST-MODIFIED:20210204T105046Z
UID:10011017-1557752400-1557756000@doras.nl
SUMMARY:Wandelgroep Banne Buiksloot
DESCRIPTION:Door het coronavirus gaat deze activiteit niet door. Wij hopen snel weer een nieuwe datum te kunnen plannen. \nHou je van wandelen en wil je dit niet alleen doen? Wandelgroep Bannedok nodigt je uit om samen te wandelen. \nWat gaan we doen?\nSamen wandelen en een kopje koffie of thee drinken. \nWaar?\nVertrek vanaf Huis van de Wijk de Banne\, in winkelcentrum de Banne. \n 
URL:https://doras.nl/event/wandelgroep-banne-buiksloot/2019-05-13/
LOCATION:Huis van de Wijk De Banne\, Bezaanjachtplein 24\, Amsterdam\, 1034 DN
CATEGORIES:Gezondheid en bewegen,Ontspanning en ontmoeting
ATTACH;FMTTYPE=image/jpeg:https://doras.nl/wp-content/uploads/2018/07/DSC7810-e1531140435465.jpg
END:VEVENT
BEGIN:VEVENT
DTSTART;TZID=UTC:20190506T130000
DTEND;TZID=UTC:20190506T140000
DTSTAMP:20260421T121020
CREATED:20180709T125701Z
LAST-MODIFIED:20210204T105046Z
UID:10011016-1557147600-1557151200@doras.nl
SUMMARY:Wandelgroep Banne Buiksloot
DESCRIPTION:Door het coronavirus gaat deze activiteit niet door. Wij hopen snel weer een nieuwe datum te kunnen plannen. \nHou je van wandelen en wil je dit niet alleen doen? Wandelgroep Bannedok nodigt je uit om samen te wandelen. \nWat gaan we doen?\nSamen wandelen en een kopje koffie of thee drinken. \nWaar?\nVertrek vanaf Huis van de Wijk de Banne\, in winkelcentrum de Banne. \n 
URL:https://doras.nl/event/wandelgroep-banne-buiksloot/2019-05-06/
LOCATION:Huis van de Wijk De Banne\, Bezaanjachtplein 24\, Amsterdam\, 1034 DN
CATEGORIES:Gezondheid en bewegen,Ontspanning en ontmoeting
ATTACH;FMTTYPE=image/jpeg:https://doras.nl/wp-content/uploads/2018/07/DSC7810-e1531140435465.jpg
END:VEVENT
BEGIN:VEVENT
DTSTART;TZID=UTC:20190429T130000
DTEND;TZID=UTC:20190429T140000
DTSTAMP:20260421T121020
CREATED:20180709T125701Z
LAST-MODIFIED:20210204T105046Z
UID:10011015-1556542800-1556546400@doras.nl
SUMMARY:Wandelgroep Banne Buiksloot
DESCRIPTION:Door het coronavirus gaat deze activiteit niet door. Wij hopen snel weer een nieuwe datum te kunnen plannen. \nHou je van wandelen en wil je dit niet alleen doen? Wandelgroep Bannedok nodigt je uit om samen te wandelen. \nWat gaan we doen?\nSamen wandelen en een kopje koffie of thee drinken. \nWaar?\nVertrek vanaf Huis van de Wijk de Banne\, in winkelcentrum de Banne. \n 
URL:https://doras.nl/event/wandelgroep-banne-buiksloot/2019-04-29/
LOCATION:Huis van de Wijk De Banne\, Bezaanjachtplein 24\, Amsterdam\, 1034 DN
CATEGORIES:Gezondheid en bewegen,Ontspanning en ontmoeting
ATTACH;FMTTYPE=image/jpeg:https://doras.nl/wp-content/uploads/2018/07/DSC7810-e1531140435465.jpg
END:VEVENT
BEGIN:VEVENT
DTSTART;TZID=UTC:20190422T130000
DTEND;TZID=UTC:20190422T140000
DTSTAMP:20260421T121020
CREATED:20180709T125701Z
LAST-MODIFIED:20210204T105046Z
UID:10011014-1555938000-1555941600@doras.nl
SUMMARY:Wandelgroep Banne Buiksloot
DESCRIPTION:Door het coronavirus gaat deze activiteit niet door. Wij hopen snel weer een nieuwe datum te kunnen plannen. \nHou je van wandelen en wil je dit niet alleen doen? Wandelgroep Bannedok nodigt je uit om samen te wandelen. \nWat gaan we doen?\nSamen wandelen en een kopje koffie of thee drinken. \nWaar?\nVertrek vanaf Huis van de Wijk de Banne\, in winkelcentrum de Banne. \n 
URL:https://doras.nl/event/wandelgroep-banne-buiksloot/2019-04-22/
LOCATION:Huis van de Wijk De Banne\, Bezaanjachtplein 24\, Amsterdam\, 1034 DN
CATEGORIES:Gezondheid en bewegen,Ontspanning en ontmoeting
ATTACH;FMTTYPE=image/jpeg:https://doras.nl/wp-content/uploads/2018/07/DSC7810-e1531140435465.jpg
END:VEVENT
BEGIN:VEVENT
DTSTART;TZID=UTC:20190415T130000
DTEND;TZID=UTC:20190415T140000
DTSTAMP:20260421T121020
CREATED:20180709T125701Z
LAST-MODIFIED:20210204T105046Z
UID:10011013-1555333200-1555336800@doras.nl
SUMMARY:Wandelgroep Banne Buiksloot
DESCRIPTION:Door het coronavirus gaat deze activiteit niet door. Wij hopen snel weer een nieuwe datum te kunnen plannen. \nHou je van wandelen en wil je dit niet alleen doen? Wandelgroep Bannedok nodigt je uit om samen te wandelen. \nWat gaan we doen?\nSamen wandelen en een kopje koffie of thee drinken. \nWaar?\nVertrek vanaf Huis van de Wijk de Banne\, in winkelcentrum de Banne. \n 
URL:https://doras.nl/event/wandelgroep-banne-buiksloot/2019-04-15/
LOCATION:Huis van de Wijk De Banne\, Bezaanjachtplein 24\, Amsterdam\, 1034 DN
CATEGORIES:Gezondheid en bewegen,Ontspanning en ontmoeting
ATTACH;FMTTYPE=image/jpeg:https://doras.nl/wp-content/uploads/2018/07/DSC7810-e1531140435465.jpg
END:VEVENT
BEGIN:VEVENT
DTSTART;TZID=UTC:20190408T130000
DTEND;TZID=UTC:20190408T140000
DTSTAMP:20260421T121020
CREATED:20180709T125701Z
LAST-MODIFIED:20210204T105046Z
UID:10011012-1554728400-1554732000@doras.nl
SUMMARY:Wandelgroep Banne Buiksloot
DESCRIPTION:Door het coronavirus gaat deze activiteit niet door. Wij hopen snel weer een nieuwe datum te kunnen plannen. \nHou je van wandelen en wil je dit niet alleen doen? Wandelgroep Bannedok nodigt je uit om samen te wandelen. \nWat gaan we doen?\nSamen wandelen en een kopje koffie of thee drinken. \nWaar?\nVertrek vanaf Huis van de Wijk de Banne\, in winkelcentrum de Banne. \n 
URL:https://doras.nl/event/wandelgroep-banne-buiksloot/2019-04-08/
LOCATION:Huis van de Wijk De Banne\, Bezaanjachtplein 24\, Amsterdam\, 1034 DN
CATEGORIES:Gezondheid en bewegen,Ontspanning en ontmoeting
ATTACH;FMTTYPE=image/jpeg:https://doras.nl/wp-content/uploads/2018/07/DSC7810-e1531140435465.jpg
END:VEVENT
BEGIN:VEVENT
DTSTART;TZID=UTC:20190401T130000
DTEND;TZID=UTC:20190401T140000
DTSTAMP:20260421T121020
CREATED:20180709T125701Z
LAST-MODIFIED:20210204T105046Z
UID:10011011-1554123600-1554127200@doras.nl
SUMMARY:Wandelgroep Banne Buiksloot
DESCRIPTION:Door het coronavirus gaat deze activiteit niet door. Wij hopen snel weer een nieuwe datum te kunnen plannen. \nHou je van wandelen en wil je dit niet alleen doen? Wandelgroep Bannedok nodigt je uit om samen te wandelen. \nWat gaan we doen?\nSamen wandelen en een kopje koffie of thee drinken. \nWaar?\nVertrek vanaf Huis van de Wijk de Banne\, in winkelcentrum de Banne. \n 
URL:https://doras.nl/event/wandelgroep-banne-buiksloot/2019-04-01/
LOCATION:Huis van de Wijk De Banne\, Bezaanjachtplein 24\, Amsterdam\, 1034 DN
CATEGORIES:Gezondheid en bewegen,Ontspanning en ontmoeting
ATTACH;FMTTYPE=image/jpeg:https://doras.nl/wp-content/uploads/2018/07/DSC7810-e1531140435465.jpg
END:VEVENT
BEGIN:VEVENT
DTSTART;TZID=UTC:20190325T130000
DTEND;TZID=UTC:20190325T140000
DTSTAMP:20260421T121020
CREATED:20180709T125701Z
LAST-MODIFIED:20210204T105046Z
UID:10011010-1553518800-1553522400@doras.nl
SUMMARY:Wandelgroep Banne Buiksloot
DESCRIPTION:Door het coronavirus gaat deze activiteit niet door. Wij hopen snel weer een nieuwe datum te kunnen plannen. \nHou je van wandelen en wil je dit niet alleen doen? Wandelgroep Bannedok nodigt je uit om samen te wandelen. \nWat gaan we doen?\nSamen wandelen en een kopje koffie of thee drinken. \nWaar?\nVertrek vanaf Huis van de Wijk de Banne\, in winkelcentrum de Banne. \n 
URL:https://doras.nl/event/wandelgroep-banne-buiksloot/2019-03-25/
LOCATION:Huis van de Wijk De Banne\, Bezaanjachtplein 24\, Amsterdam\, 1034 DN
CATEGORIES:Gezondheid en bewegen,Ontspanning en ontmoeting
ATTACH;FMTTYPE=image/jpeg:https://doras.nl/wp-content/uploads/2018/07/DSC7810-e1531140435465.jpg
END:VEVENT
BEGIN:VEVENT
DTSTART;TZID=UTC:20190318T130000
DTEND;TZID=UTC:20190318T140000
DTSTAMP:20260421T121020
CREATED:20180709T125701Z
LAST-MODIFIED:20210204T105046Z
UID:10011009-1552914000-1552917600@doras.nl
SUMMARY:Wandelgroep Banne Buiksloot
DESCRIPTION:Door het coronavirus gaat deze activiteit niet door. Wij hopen snel weer een nieuwe datum te kunnen plannen. \nHou je van wandelen en wil je dit niet alleen doen? Wandelgroep Bannedok nodigt je uit om samen te wandelen. \nWat gaan we doen?\nSamen wandelen en een kopje koffie of thee drinken. \nWaar?\nVertrek vanaf Huis van de Wijk de Banne\, in winkelcentrum de Banne. \n 
URL:https://doras.nl/event/wandelgroep-banne-buiksloot/2019-03-18/
LOCATION:Huis van de Wijk De Banne\, Bezaanjachtplein 24\, Amsterdam\, 1034 DN
CATEGORIES:Gezondheid en bewegen,Ontspanning en ontmoeting
ATTACH;FMTTYPE=image/jpeg:https://doras.nl/wp-content/uploads/2018/07/DSC7810-e1531140435465.jpg
END:VEVENT
BEGIN:VEVENT
DTSTART;TZID=UTC:20190311T130000
DTEND;TZID=UTC:20190311T140000
DTSTAMP:20260421T121020
CREATED:20180709T125701Z
LAST-MODIFIED:20210204T105046Z
UID:10011008-1552309200-1552312800@doras.nl
SUMMARY:Wandelgroep Banne Buiksloot
DESCRIPTION:Door het coronavirus gaat deze activiteit niet door. Wij hopen snel weer een nieuwe datum te kunnen plannen. \nHou je van wandelen en wil je dit niet alleen doen? Wandelgroep Bannedok nodigt je uit om samen te wandelen. \nWat gaan we doen?\nSamen wandelen en een kopje koffie of thee drinken. \nWaar?\nVertrek vanaf Huis van de Wijk de Banne\, in winkelcentrum de Banne. \n 
URL:https://doras.nl/event/wandelgroep-banne-buiksloot/2019-03-11/
LOCATION:Huis van de Wijk De Banne\, Bezaanjachtplein 24\, Amsterdam\, 1034 DN
CATEGORIES:Gezondheid en bewegen,Ontspanning en ontmoeting
ATTACH;FMTTYPE=image/jpeg:https://doras.nl/wp-content/uploads/2018/07/DSC7810-e1531140435465.jpg
END:VEVENT
BEGIN:VEVENT
DTSTART;TZID=UTC:20190304T130000
DTEND;TZID=UTC:20190304T140000
DTSTAMP:20260421T121020
CREATED:20180709T125701Z
LAST-MODIFIED:20210204T105046Z
UID:10011007-1551704400-1551708000@doras.nl
SUMMARY:Wandelgroep Banne Buiksloot
DESCRIPTION:Door het coronavirus gaat deze activiteit niet door. Wij hopen snel weer een nieuwe datum te kunnen plannen. \nHou je van wandelen en wil je dit niet alleen doen? Wandelgroep Bannedok nodigt je uit om samen te wandelen. \nWat gaan we doen?\nSamen wandelen en een kopje koffie of thee drinken. \nWaar?\nVertrek vanaf Huis van de Wijk de Banne\, in winkelcentrum de Banne. \n 
URL:https://doras.nl/event/wandelgroep-banne-buiksloot/2019-03-04/
LOCATION:Huis van de Wijk De Banne\, Bezaanjachtplein 24\, Amsterdam\, 1034 DN
CATEGORIES:Gezondheid en bewegen,Ontspanning en ontmoeting
ATTACH;FMTTYPE=image/jpeg:https://doras.nl/wp-content/uploads/2018/07/DSC7810-e1531140435465.jpg
END:VEVENT
BEGIN:VEVENT
DTSTART;TZID=UTC:20190225T130000
DTEND;TZID=UTC:20190225T140000
DTSTAMP:20260421T121020
CREATED:20180709T125701Z
LAST-MODIFIED:20210204T105046Z
UID:10011006-1551099600-1551103200@doras.nl
SUMMARY:Wandelgroep Banne Buiksloot
DESCRIPTION:Door het coronavirus gaat deze activiteit niet door. Wij hopen snel weer een nieuwe datum te kunnen plannen. \nHou je van wandelen en wil je dit niet alleen doen? Wandelgroep Bannedok nodigt je uit om samen te wandelen. \nWat gaan we doen?\nSamen wandelen en een kopje koffie of thee drinken. \nWaar?\nVertrek vanaf Huis van de Wijk de Banne\, in winkelcentrum de Banne. \n 
URL:https://doras.nl/event/wandelgroep-banne-buiksloot/2019-02-25/
LOCATION:Huis van de Wijk De Banne\, Bezaanjachtplein 24\, Amsterdam\, 1034 DN
CATEGORIES:Gezondheid en bewegen,Ontspanning en ontmoeting
ATTACH;FMTTYPE=image/jpeg:https://doras.nl/wp-content/uploads/2018/07/DSC7810-e1531140435465.jpg
END:VEVENT
BEGIN:VEVENT
DTSTART;TZID=UTC:20190218T130000
DTEND;TZID=UTC:20190218T140000
DTSTAMP:20260421T121020
CREATED:20180709T125701Z
LAST-MODIFIED:20210204T105046Z
UID:10011005-1550494800-1550498400@doras.nl
SUMMARY:Wandelgroep Banne Buiksloot
DESCRIPTION:Door het coronavirus gaat deze activiteit niet door. Wij hopen snel weer een nieuwe datum te kunnen plannen. \nHou je van wandelen en wil je dit niet alleen doen? Wandelgroep Bannedok nodigt je uit om samen te wandelen. \nWat gaan we doen?\nSamen wandelen en een kopje koffie of thee drinken. \nWaar?\nVertrek vanaf Huis van de Wijk de Banne\, in winkelcentrum de Banne. \n 
URL:https://doras.nl/event/wandelgroep-banne-buiksloot/2019-02-18/
LOCATION:Huis van de Wijk De Banne\, Bezaanjachtplein 24\, Amsterdam\, 1034 DN
CATEGORIES:Gezondheid en bewegen,Ontspanning en ontmoeting
ATTACH;FMTTYPE=image/jpeg:https://doras.nl/wp-content/uploads/2018/07/DSC7810-e1531140435465.jpg
END:VEVENT
BEGIN:VEVENT
DTSTART;TZID=UTC:20190211T130000
DTEND;TZID=UTC:20190211T140000
DTSTAMP:20260421T121020
CREATED:20180709T125701Z
LAST-MODIFIED:20210204T105046Z
UID:10011004-1549890000-1549893600@doras.nl
SUMMARY:Wandelgroep Banne Buiksloot
DESCRIPTION:Door het coronavirus gaat deze activiteit niet door. Wij hopen snel weer een nieuwe datum te kunnen plannen. \nHou je van wandelen en wil je dit niet alleen doen? Wandelgroep Bannedok nodigt je uit om samen te wandelen. \nWat gaan we doen?\nSamen wandelen en een kopje koffie of thee drinken. \nWaar?\nVertrek vanaf Huis van de Wijk de Banne\, in winkelcentrum de Banne. \n 
URL:https://doras.nl/event/wandelgroep-banne-buiksloot/2019-02-11/
LOCATION:Huis van de Wijk De Banne\, Bezaanjachtplein 24\, Amsterdam\, 1034 DN
CATEGORIES:Gezondheid en bewegen,Ontspanning en ontmoeting
ATTACH;FMTTYPE=image/jpeg:https://doras.nl/wp-content/uploads/2018/07/DSC7810-e1531140435465.jpg
END:VEVENT
BEGIN:VEVENT
DTSTART;TZID=UTC:20190204T130000
DTEND;TZID=UTC:20190204T140000
DTSTAMP:20260421T121020
CREATED:20180709T125701Z
LAST-MODIFIED:20210204T105046Z
UID:10011003-1549285200-1549288800@doras.nl
SUMMARY:Wandelgroep Banne Buiksloot
DESCRIPTION:Door het coronavirus gaat deze activiteit niet door. Wij hopen snel weer een nieuwe datum te kunnen plannen. \nHou je van wandelen en wil je dit niet alleen doen? Wandelgroep Bannedok nodigt je uit om samen te wandelen. \nWat gaan we doen?\nSamen wandelen en een kopje koffie of thee drinken. \nWaar?\nVertrek vanaf Huis van de Wijk de Banne\, in winkelcentrum de Banne. \n 
URL:https://doras.nl/event/wandelgroep-banne-buiksloot/2019-02-04/
LOCATION:Huis van de Wijk De Banne\, Bezaanjachtplein 24\, Amsterdam\, 1034 DN
CATEGORIES:Gezondheid en bewegen,Ontspanning en ontmoeting
ATTACH;FMTTYPE=image/jpeg:https://doras.nl/wp-content/uploads/2018/07/DSC7810-e1531140435465.jpg
END:VEVENT
BEGIN:VEVENT
DTSTART;TZID=UTC:20190128T130000
DTEND;TZID=UTC:20190128T140000
DTSTAMP:20260421T121020
CREATED:20180709T125701Z
LAST-MODIFIED:20210204T105046Z
UID:10011002-1548680400-1548684000@doras.nl
SUMMARY:Wandelgroep Banne Buiksloot
DESCRIPTION:Door het coronavirus gaat deze activiteit niet door. Wij hopen snel weer een nieuwe datum te kunnen plannen. \nHou je van wandelen en wil je dit niet alleen doen? Wandelgroep Bannedok nodigt je uit om samen te wandelen. \nWat gaan we doen?\nSamen wandelen en een kopje koffie of thee drinken. \nWaar?\nVertrek vanaf Huis van de Wijk de Banne\, in winkelcentrum de Banne. \n 
URL:https://doras.nl/event/wandelgroep-banne-buiksloot/2019-01-28/
LOCATION:Huis van de Wijk De Banne\, Bezaanjachtplein 24\, Amsterdam\, 1034 DN
CATEGORIES:Gezondheid en bewegen,Ontspanning en ontmoeting
ATTACH;FMTTYPE=image/jpeg:https://doras.nl/wp-content/uploads/2018/07/DSC7810-e1531140435465.jpg
END:VEVENT
BEGIN:VEVENT
DTSTART;TZID=UTC:20190121T130000
DTEND;TZID=UTC:20190121T140000
DTSTAMP:20260421T121020
CREATED:20180709T125701Z
LAST-MODIFIED:20210204T105046Z
UID:10011001-1548075600-1548079200@doras.nl
SUMMARY:Wandelgroep Banne Buiksloot
DESCRIPTION:Door het coronavirus gaat deze activiteit niet door. Wij hopen snel weer een nieuwe datum te kunnen plannen. \nHou je van wandelen en wil je dit niet alleen doen? Wandelgroep Bannedok nodigt je uit om samen te wandelen. \nWat gaan we doen?\nSamen wandelen en een kopje koffie of thee drinken. \nWaar?\nVertrek vanaf Huis van de Wijk de Banne\, in winkelcentrum de Banne. \n 
URL:https://doras.nl/event/wandelgroep-banne-buiksloot/2019-01-21/
LOCATION:Huis van de Wijk De Banne\, Bezaanjachtplein 24\, Amsterdam\, 1034 DN
CATEGORIES:Gezondheid en bewegen,Ontspanning en ontmoeting
ATTACH;FMTTYPE=image/jpeg:https://doras.nl/wp-content/uploads/2018/07/DSC7810-e1531140435465.jpg
END:VEVENT
BEGIN:VEVENT
DTSTART;TZID=UTC:20190114T130000
DTEND;TZID=UTC:20190114T140000
DTSTAMP:20260421T121020
CREATED:20180709T125701Z
LAST-MODIFIED:20210204T105046Z
UID:10011000-1547470800-1547474400@doras.nl
SUMMARY:Wandelgroep Banne Buiksloot
DESCRIPTION:Door het coronavirus gaat deze activiteit niet door. Wij hopen snel weer een nieuwe datum te kunnen plannen. \nHou je van wandelen en wil je dit niet alleen doen? Wandelgroep Bannedok nodigt je uit om samen te wandelen. \nWat gaan we doen?\nSamen wandelen en een kopje koffie of thee drinken. \nWaar?\nVertrek vanaf Huis van de Wijk de Banne\, in winkelcentrum de Banne. \n 
URL:https://doras.nl/event/wandelgroep-banne-buiksloot/2019-01-14/
LOCATION:Huis van de Wijk De Banne\, Bezaanjachtplein 24\, Amsterdam\, 1034 DN
CATEGORIES:Gezondheid en bewegen,Ontspanning en ontmoeting
ATTACH;FMTTYPE=image/jpeg:https://doras.nl/wp-content/uploads/2018/07/DSC7810-e1531140435465.jpg
END:VEVENT
BEGIN:VEVENT
DTSTART;TZID=UTC:20190107T130000
DTEND;TZID=UTC:20190107T140000
DTSTAMP:20260421T121020
CREATED:20180709T125701Z
LAST-MODIFIED:20210204T105046Z
UID:10010999-1546866000-1546869600@doras.nl
SUMMARY:Wandelgroep Banne Buiksloot
DESCRIPTION:Door het coronavirus gaat deze activiteit niet door. Wij hopen snel weer een nieuwe datum te kunnen plannen. \nHou je van wandelen en wil je dit niet alleen doen? Wandelgroep Bannedok nodigt je uit om samen te wandelen. \nWat gaan we doen?\nSamen wandelen en een kopje koffie of thee drinken. \nWaar?\nVertrek vanaf Huis van de Wijk de Banne\, in winkelcentrum de Banne. \n 
URL:https://doras.nl/event/wandelgroep-banne-buiksloot/2019-01-07/
LOCATION:Huis van de Wijk De Banne\, Bezaanjachtplein 24\, Amsterdam\, 1034 DN
CATEGORIES:Gezondheid en bewegen,Ontspanning en ontmoeting
ATTACH;FMTTYPE=image/jpeg:https://doras.nl/wp-content/uploads/2018/07/DSC7810-e1531140435465.jpg
END:VEVENT
BEGIN:VEVENT
DTSTART;TZID=UTC:20181231T130000
DTEND;TZID=UTC:20181231T140000
DTSTAMP:20260421T121020
CREATED:20180709T125701Z
LAST-MODIFIED:20210204T105046Z
UID:10010998-1546261200-1546264800@doras.nl
SUMMARY:Wandelgroep Banne Buiksloot
DESCRIPTION:Door het coronavirus gaat deze activiteit niet door. Wij hopen snel weer een nieuwe datum te kunnen plannen. \nHou je van wandelen en wil je dit niet alleen doen? Wandelgroep Bannedok nodigt je uit om samen te wandelen. \nWat gaan we doen?\nSamen wandelen en een kopje koffie of thee drinken. \nWaar?\nVertrek vanaf Huis van de Wijk de Banne\, in winkelcentrum de Banne. \n 
URL:https://doras.nl/event/wandelgroep-banne-buiksloot/2018-12-31/
LOCATION:Huis van de Wijk De Banne\, Bezaanjachtplein 24\, Amsterdam\, 1034 DN
CATEGORIES:Gezondheid en bewegen,Ontspanning en ontmoeting
ATTACH;FMTTYPE=image/jpeg:https://doras.nl/wp-content/uploads/2018/07/DSC7810-e1531140435465.jpg
END:VEVENT
BEGIN:VEVENT
DTSTART;TZID=UTC:20181224T130000
DTEND;TZID=UTC:20181224T140000
DTSTAMP:20260421T121020
CREATED:20180709T125701Z
LAST-MODIFIED:20210204T105046Z
UID:10010997-1545656400-1545660000@doras.nl
SUMMARY:Wandelgroep Banne Buiksloot
DESCRIPTION:Door het coronavirus gaat deze activiteit niet door. Wij hopen snel weer een nieuwe datum te kunnen plannen. \nHou je van wandelen en wil je dit niet alleen doen? Wandelgroep Bannedok nodigt je uit om samen te wandelen. \nWat gaan we doen?\nSamen wandelen en een kopje koffie of thee drinken. \nWaar?\nVertrek vanaf Huis van de Wijk de Banne\, in winkelcentrum de Banne. \n 
URL:https://doras.nl/event/wandelgroep-banne-buiksloot/2018-12-24/
LOCATION:Huis van de Wijk De Banne\, Bezaanjachtplein 24\, Amsterdam\, 1034 DN
CATEGORIES:Gezondheid en bewegen,Ontspanning en ontmoeting
ATTACH;FMTTYPE=image/jpeg:https://doras.nl/wp-content/uploads/2018/07/DSC7810-e1531140435465.jpg
END:VEVENT
BEGIN:VEVENT
DTSTART;TZID=UTC:20181217T130000
DTEND;TZID=UTC:20181217T140000
DTSTAMP:20260421T121020
CREATED:20180709T125701Z
LAST-MODIFIED:20210204T105046Z
UID:10010996-1545051600-1545055200@doras.nl
SUMMARY:Wandelgroep Banne Buiksloot
DESCRIPTION:Door het coronavirus gaat deze activiteit niet door. Wij hopen snel weer een nieuwe datum te kunnen plannen. \nHou je van wandelen en wil je dit niet alleen doen? Wandelgroep Bannedok nodigt je uit om samen te wandelen. \nWat gaan we doen?\nSamen wandelen en een kopje koffie of thee drinken. \nWaar?\nVertrek vanaf Huis van de Wijk de Banne\, in winkelcentrum de Banne. \n 
URL:https://doras.nl/event/wandelgroep-banne-buiksloot/2018-12-17/
LOCATION:Huis van de Wijk De Banne\, Bezaanjachtplein 24\, Amsterdam\, 1034 DN
CATEGORIES:Gezondheid en bewegen,Ontspanning en ontmoeting
ATTACH;FMTTYPE=image/jpeg:https://doras.nl/wp-content/uploads/2018/07/DSC7810-e1531140435465.jpg
END:VEVENT
BEGIN:VEVENT
DTSTART;TZID=UTC:20181210T130000
DTEND;TZID=UTC:20181210T140000
DTSTAMP:20260421T121020
CREATED:20180709T125701Z
LAST-MODIFIED:20210204T105046Z
UID:10010995-1544446800-1544450400@doras.nl
SUMMARY:Wandelgroep Banne Buiksloot
DESCRIPTION:Door het coronavirus gaat deze activiteit niet door. Wij hopen snel weer een nieuwe datum te kunnen plannen. \nHou je van wandelen en wil je dit niet alleen doen? Wandelgroep Bannedok nodigt je uit om samen te wandelen. \nWat gaan we doen?\nSamen wandelen en een kopje koffie of thee drinken. \nWaar?\nVertrek vanaf Huis van de Wijk de Banne\, in winkelcentrum de Banne. \n 
URL:https://doras.nl/event/wandelgroep-banne-buiksloot/2018-12-10/
LOCATION:Huis van de Wijk De Banne\, Bezaanjachtplein 24\, Amsterdam\, 1034 DN
CATEGORIES:Gezondheid en bewegen,Ontspanning en ontmoeting
ATTACH;FMTTYPE=image/jpeg:https://doras.nl/wp-content/uploads/2018/07/DSC7810-e1531140435465.jpg
END:VEVENT
BEGIN:VEVENT
DTSTART;TZID=UTC:20181203T130000
DTEND;TZID=UTC:20181203T140000
DTSTAMP:20260421T121020
CREATED:20180709T125701Z
LAST-MODIFIED:20210204T105046Z
UID:10010994-1543842000-1543845600@doras.nl
SUMMARY:Wandelgroep Banne Buiksloot
DESCRIPTION:Door het coronavirus gaat deze activiteit niet door. Wij hopen snel weer een nieuwe datum te kunnen plannen. \nHou je van wandelen en wil je dit niet alleen doen? Wandelgroep Bannedok nodigt je uit om samen te wandelen. \nWat gaan we doen?\nSamen wandelen en een kopje koffie of thee drinken. \nWaar?\nVertrek vanaf Huis van de Wijk de Banne\, in winkelcentrum de Banne. \n 
URL:https://doras.nl/event/wandelgroep-banne-buiksloot/2018-12-03/
LOCATION:Huis van de Wijk De Banne\, Bezaanjachtplein 24\, Amsterdam\, 1034 DN
CATEGORIES:Gezondheid en bewegen,Ontspanning en ontmoeting
ATTACH;FMTTYPE=image/jpeg:https://doras.nl/wp-content/uploads/2018/07/DSC7810-e1531140435465.jpg
END:VEVENT
BEGIN:VEVENT
DTSTART;TZID=UTC:20181126T130000
DTEND;TZID=UTC:20181126T140000
DTSTAMP:20260421T121020
CREATED:20180709T125701Z
LAST-MODIFIED:20210204T105046Z
UID:10010993-1543237200-1543240800@doras.nl
SUMMARY:Wandelgroep Banne Buiksloot
DESCRIPTION:Door het coronavirus gaat deze activiteit niet door. Wij hopen snel weer een nieuwe datum te kunnen plannen. \nHou je van wandelen en wil je dit niet alleen doen? Wandelgroep Bannedok nodigt je uit om samen te wandelen. \nWat gaan we doen?\nSamen wandelen en een kopje koffie of thee drinken. \nWaar?\nVertrek vanaf Huis van de Wijk de Banne\, in winkelcentrum de Banne. \n 
URL:https://doras.nl/event/wandelgroep-banne-buiksloot/2018-11-26/
LOCATION:Huis van de Wijk De Banne\, Bezaanjachtplein 24\, Amsterdam\, 1034 DN
CATEGORIES:Gezondheid en bewegen,Ontspanning en ontmoeting
ATTACH;FMTTYPE=image/jpeg:https://doras.nl/wp-content/uploads/2018/07/DSC7810-e1531140435465.jpg
END:VEVENT
END:VCALENDAR