BEGIN:VCALENDAR
VERSION:2.0
PRODID:-//Doras - ECPv6.15.11//NONSGML v1.0//EN
CALSCALE:GREGORIAN
METHOD:PUBLISH
X-WR-CALNAME:Doras
X-ORIGINAL-URL:https://doras.nl
X-WR-CALDESC:Evenementen voor Doras
REFRESH-INTERVAL;VALUE=DURATION:PT1H
X-Robots-Tag:noindex
X-PUBLISHED-TTL:PT1H
BEGIN:VTIMEZONE
TZID:UTC
BEGIN:STANDARD
TZOFFSETFROM:+0000
TZOFFSETTO:+0000
TZNAME:UTC
DTSTART:20170101T000000
END:STANDARD
END:VTIMEZONE
BEGIN:VEVENT
DTSTART;TZID=UTC:20180910T130000
DTEND;TZID=UTC:20180910T140000
DTSTAMP:20260421T233348
CREATED:20180709T125701Z
LAST-MODIFIED:20210204T105046Z
UID:10010982-1536584400-1536588000@doras.nl
SUMMARY:Wandelgroep Banne Buiksloot
DESCRIPTION:Door het coronavirus gaat deze activiteit niet door. Wij hopen snel weer een nieuwe datum te kunnen plannen. \nHou je van wandelen en wil je dit niet alleen doen? Wandelgroep Bannedok nodigt je uit om samen te wandelen. \nWat gaan we doen?\nSamen wandelen en een kopje koffie of thee drinken. \nWaar?\nVertrek vanaf Huis van de Wijk de Banne\, in winkelcentrum de Banne. \n 
URL:https://doras.nl/event/wandelgroep-banne-buiksloot/2018-09-10/
LOCATION:Huis van de Wijk De Banne\, Bezaanjachtplein 24\, Amsterdam\, 1034 DN
CATEGORIES:Gezondheid en bewegen,Ontspanning en ontmoeting
ATTACH;FMTTYPE=image/jpeg:https://doras.nl/wp-content/uploads/2018/07/DSC7810-e1531140435465.jpg
END:VEVENT
BEGIN:VEVENT
DTSTART;TZID=UTC:20180903T130000
DTEND;TZID=UTC:20180903T140000
DTSTAMP:20260421T233348
CREATED:20180709T125701Z
LAST-MODIFIED:20210204T105046Z
UID:10010981-1535979600-1535983200@doras.nl
SUMMARY:Wandelgroep Banne Buiksloot
DESCRIPTION:Door het coronavirus gaat deze activiteit niet door. Wij hopen snel weer een nieuwe datum te kunnen plannen. \nHou je van wandelen en wil je dit niet alleen doen? Wandelgroep Bannedok nodigt je uit om samen te wandelen. \nWat gaan we doen?\nSamen wandelen en een kopje koffie of thee drinken. \nWaar?\nVertrek vanaf Huis van de Wijk de Banne\, in winkelcentrum de Banne. \n 
URL:https://doras.nl/event/wandelgroep-banne-buiksloot/2018-09-03/
LOCATION:Huis van de Wijk De Banne\, Bezaanjachtplein 24\, Amsterdam\, 1034 DN
CATEGORIES:Gezondheid en bewegen,Ontspanning en ontmoeting
ATTACH;FMTTYPE=image/jpeg:https://doras.nl/wp-content/uploads/2018/07/DSC7810-e1531140435465.jpg
END:VEVENT
BEGIN:VEVENT
DTSTART;TZID=UTC:20180827T130000
DTEND;TZID=UTC:20180827T140000
DTSTAMP:20260421T233348
CREATED:20180709T125701Z
LAST-MODIFIED:20210204T105046Z
UID:10010980-1535374800-1535378400@doras.nl
SUMMARY:Wandelgroep Banne Buiksloot
DESCRIPTION:Door het coronavirus gaat deze activiteit niet door. Wij hopen snel weer een nieuwe datum te kunnen plannen. \nHou je van wandelen en wil je dit niet alleen doen? Wandelgroep Bannedok nodigt je uit om samen te wandelen. \nWat gaan we doen?\nSamen wandelen en een kopje koffie of thee drinken. \nWaar?\nVertrek vanaf Huis van de Wijk de Banne\, in winkelcentrum de Banne. \n 
URL:https://doras.nl/event/wandelgroep-banne-buiksloot/2018-08-27/
LOCATION:Huis van de Wijk De Banne\, Bezaanjachtplein 24\, Amsterdam\, 1034 DN
CATEGORIES:Gezondheid en bewegen,Ontspanning en ontmoeting
ATTACH;FMTTYPE=image/jpeg:https://doras.nl/wp-content/uploads/2018/07/DSC7810-e1531140435465.jpg
END:VEVENT
BEGIN:VEVENT
DTSTART;TZID=UTC:20180820T130000
DTEND;TZID=UTC:20180820T140000
DTSTAMP:20260421T233348
CREATED:20180709T125701Z
LAST-MODIFIED:20210204T105046Z
UID:10010979-1534770000-1534773600@doras.nl
SUMMARY:Wandelgroep Banne Buiksloot
DESCRIPTION:Door het coronavirus gaat deze activiteit niet door. Wij hopen snel weer een nieuwe datum te kunnen plannen. \nHou je van wandelen en wil je dit niet alleen doen? Wandelgroep Bannedok nodigt je uit om samen te wandelen. \nWat gaan we doen?\nSamen wandelen en een kopje koffie of thee drinken. \nWaar?\nVertrek vanaf Huis van de Wijk de Banne\, in winkelcentrum de Banne. \n 
URL:https://doras.nl/event/wandelgroep-banne-buiksloot/2018-08-20/
LOCATION:Huis van de Wijk De Banne\, Bezaanjachtplein 24\, Amsterdam\, 1034 DN
CATEGORIES:Gezondheid en bewegen,Ontspanning en ontmoeting
ATTACH;FMTTYPE=image/jpeg:https://doras.nl/wp-content/uploads/2018/07/DSC7810-e1531140435465.jpg
END:VEVENT
BEGIN:VEVENT
DTSTART;TZID=UTC:20180813T130000
DTEND;TZID=UTC:20180813T140000
DTSTAMP:20260421T233348
CREATED:20180709T125701Z
LAST-MODIFIED:20210204T105046Z
UID:10010978-1534165200-1534168800@doras.nl
SUMMARY:Wandelgroep Banne Buiksloot
DESCRIPTION:Door het coronavirus gaat deze activiteit niet door. Wij hopen snel weer een nieuwe datum te kunnen plannen. \nHou je van wandelen en wil je dit niet alleen doen? Wandelgroep Bannedok nodigt je uit om samen te wandelen. \nWat gaan we doen?\nSamen wandelen en een kopje koffie of thee drinken. \nWaar?\nVertrek vanaf Huis van de Wijk de Banne\, in winkelcentrum de Banne. \n 
URL:https://doras.nl/event/wandelgroep-banne-buiksloot/2018-08-13/
LOCATION:Huis van de Wijk De Banne\, Bezaanjachtplein 24\, Amsterdam\, 1034 DN
CATEGORIES:Gezondheid en bewegen,Ontspanning en ontmoeting
ATTACH;FMTTYPE=image/jpeg:https://doras.nl/wp-content/uploads/2018/07/DSC7810-e1531140435465.jpg
END:VEVENT
BEGIN:VEVENT
DTSTART;TZID=UTC:20180806T130000
DTEND;TZID=UTC:20180806T140000
DTSTAMP:20260421T233348
CREATED:20180709T125701Z
LAST-MODIFIED:20210204T105046Z
UID:10010977-1533560400-1533564000@doras.nl
SUMMARY:Wandelgroep Banne Buiksloot
DESCRIPTION:Door het coronavirus gaat deze activiteit niet door. Wij hopen snel weer een nieuwe datum te kunnen plannen. \nHou je van wandelen en wil je dit niet alleen doen? Wandelgroep Bannedok nodigt je uit om samen te wandelen. \nWat gaan we doen?\nSamen wandelen en een kopje koffie of thee drinken. \nWaar?\nVertrek vanaf Huis van de Wijk de Banne\, in winkelcentrum de Banne. \n 
URL:https://doras.nl/event/wandelgroep-banne-buiksloot/2018-08-06/
LOCATION:Huis van de Wijk De Banne\, Bezaanjachtplein 24\, Amsterdam\, 1034 DN
CATEGORIES:Gezondheid en bewegen,Ontspanning en ontmoeting
ATTACH;FMTTYPE=image/jpeg:https://doras.nl/wp-content/uploads/2018/07/DSC7810-e1531140435465.jpg
END:VEVENT
BEGIN:VEVENT
DTSTART;TZID=UTC:20180730T130000
DTEND;TZID=UTC:20180730T140000
DTSTAMP:20260421T233348
CREATED:20180709T125701Z
LAST-MODIFIED:20210204T105046Z
UID:10010976-1532955600-1532959200@doras.nl
SUMMARY:Wandelgroep Banne Buiksloot
DESCRIPTION:Door het coronavirus gaat deze activiteit niet door. Wij hopen snel weer een nieuwe datum te kunnen plannen. \nHou je van wandelen en wil je dit niet alleen doen? Wandelgroep Bannedok nodigt je uit om samen te wandelen. \nWat gaan we doen?\nSamen wandelen en een kopje koffie of thee drinken. \nWaar?\nVertrek vanaf Huis van de Wijk de Banne\, in winkelcentrum de Banne. \n 
URL:https://doras.nl/event/wandelgroep-banne-buiksloot/2018-07-30/
LOCATION:Huis van de Wijk De Banne\, Bezaanjachtplein 24\, Amsterdam\, 1034 DN
CATEGORIES:Gezondheid en bewegen,Ontspanning en ontmoeting
ATTACH;FMTTYPE=image/jpeg:https://doras.nl/wp-content/uploads/2018/07/DSC7810-e1531140435465.jpg
END:VEVENT
BEGIN:VEVENT
DTSTART;TZID=UTC:20180723T130000
DTEND;TZID=UTC:20180723T140000
DTSTAMP:20260421T233348
CREATED:20180709T125701Z
LAST-MODIFIED:20210204T105046Z
UID:10010975-1532350800-1532354400@doras.nl
SUMMARY:Wandelgroep Banne Buiksloot
DESCRIPTION:Door het coronavirus gaat deze activiteit niet door. Wij hopen snel weer een nieuwe datum te kunnen plannen. \nHou je van wandelen en wil je dit niet alleen doen? Wandelgroep Bannedok nodigt je uit om samen te wandelen. \nWat gaan we doen?\nSamen wandelen en een kopje koffie of thee drinken. \nWaar?\nVertrek vanaf Huis van de Wijk de Banne\, in winkelcentrum de Banne. \n 
URL:https://doras.nl/event/wandelgroep-banne-buiksloot/2018-07-23/
LOCATION:Huis van de Wijk De Banne\, Bezaanjachtplein 24\, Amsterdam\, 1034 DN
CATEGORIES:Gezondheid en bewegen,Ontspanning en ontmoeting
ATTACH;FMTTYPE=image/jpeg:https://doras.nl/wp-content/uploads/2018/07/DSC7810-e1531140435465.jpg
END:VEVENT
BEGIN:VEVENT
DTSTART;TZID=UTC:20180716T130000
DTEND;TZID=UTC:20180716T140000
DTSTAMP:20260421T233348
CREATED:20180709T125701Z
LAST-MODIFIED:20210204T105046Z
UID:10010974-1531746000-1531749600@doras.nl
SUMMARY:Wandelgroep Banne Buiksloot
DESCRIPTION:Door het coronavirus gaat deze activiteit niet door. Wij hopen snel weer een nieuwe datum te kunnen plannen. \nHou je van wandelen en wil je dit niet alleen doen? Wandelgroep Bannedok nodigt je uit om samen te wandelen. \nWat gaan we doen?\nSamen wandelen en een kopje koffie of thee drinken. \nWaar?\nVertrek vanaf Huis van de Wijk de Banne\, in winkelcentrum de Banne. \n 
URL:https://doras.nl/event/wandelgroep-banne-buiksloot/2018-07-16/
LOCATION:Huis van de Wijk De Banne\, Bezaanjachtplein 24\, Amsterdam\, 1034 DN
CATEGORIES:Gezondheid en bewegen,Ontspanning en ontmoeting
ATTACH;FMTTYPE=image/jpeg:https://doras.nl/wp-content/uploads/2018/07/DSC7810-e1531140435465.jpg
END:VEVENT
BEGIN:VEVENT
DTSTART;TZID=UTC:20180709T130000
DTEND;TZID=UTC:20180709T140000
DTSTAMP:20260421T233348
CREATED:20180709T125701Z
LAST-MODIFIED:20210204T105046Z
UID:10010973-1531141200-1531144800@doras.nl
SUMMARY:Wandelgroep Banne Buiksloot
DESCRIPTION:Door het coronavirus gaat deze activiteit niet door. Wij hopen snel weer een nieuwe datum te kunnen plannen. \nHou je van wandelen en wil je dit niet alleen doen? Wandelgroep Bannedok nodigt je uit om samen te wandelen. \nWat gaan we doen?\nSamen wandelen en een kopje koffie of thee drinken. \nWaar?\nVertrek vanaf Huis van de Wijk de Banne\, in winkelcentrum de Banne. \n 
URL:https://doras.nl/event/wandelgroep-banne-buiksloot/2018-07-09/
LOCATION:Huis van de Wijk De Banne\, Bezaanjachtplein 24\, Amsterdam\, 1034 DN
CATEGORIES:Gezondheid en bewegen,Ontspanning en ontmoeting
ATTACH;FMTTYPE=image/jpeg:https://doras.nl/wp-content/uploads/2018/07/DSC7810-e1531140435465.jpg
END:VEVENT
END:VCALENDAR