BEGIN:VCALENDAR
VERSION:2.0
PRODID:-//Doras - ECPv6.15.11//NONSGML v1.0//EN
CALSCALE:GREGORIAN
METHOD:PUBLISH
X-WR-CALNAME:Doras
X-ORIGINAL-URL:https://doras.nl
X-WR-CALDESC:Evenementen voor Doras
REFRESH-INTERVAL;VALUE=DURATION:PT1H
X-Robots-Tag:noindex
X-PUBLISHED-TTL:PT1H
BEGIN:VTIMEZONE
TZID:UTC
BEGIN:STANDARD
TZOFFSETFROM:+0000
TZOFFSETTO:+0000
TZNAME:UTC
DTSTART:20170101T000000
END:STANDARD
END:VTIMEZONE
BEGIN:VEVENT
DTSTART;TZID=UTC:20190318T103000
DTEND;TZID=UTC:20190318T123000
DTSTAMP:20260419T175906
CREATED:20180608T082455Z
LAST-MODIFIED:20200409T152638Z
UID:10010794-1552905000-1552912200@doras.nl
SUMMARY:Nabestaanden CafÃ©
DESCRIPTION:Door het coronavirus gaat deze activiteit niet door. Wij hopen snel weer een nieuwe datum te kunnen plannen. \nHeb je wel behoefte aan contact? Neem dan contact op met EsmÃ©e Claessen: e.claessen@doras.nl\, (020) 2359 515 of 06 &#8211;Â  1230 9940. \n  \nMisschien wel goed om er expliciet bij te vermelden dat wanneer mensen behoefte hebben aan contact ze ons mogen benaderen. Je mag mijn naam en telefoonnummerÂ  en mailadres er bij zetten\, dan kan ik contact met hen opnemen. \n \n \n \n\n	Heb je een dierbare verloren door overlijden?\n	Heb je behoefte aan contact met andere nabestaanden?\n	Ben je 18 jaar of ouder?\n\nKom naar het Nabestaanden CafÃ©! \nWat is het Nabestaanden CafÃ©?\nHet Nabestaanden CafÃ© zijn bijeenkomsten voor nabestaanden van wie een dierbare is overleden. Iedere bijeenkomst staat een ander thema centraal. Het is een open inloop\, je hoeft je niet aan te melden. \nWaar gaat de bijeenkomst over?\n\n	Hoe ga je om met reacties van je omgeving?\n	Hoe ga je om met emoties in een rouwproces?\n	Hoe ga je om met eenzaamheid?\n	Hoe ga je om met feest- en gedenkdagen?\n	Wat te doen met de persoonlijke bezittingen van uw dierbare?\n\nWat zijn de kosten?\nDe bijeenkomst is gratis. Koffie en thee kun je op eigen kosten aan de bar bestellen. Na afloop is er de mogelijkheid om te lunchen met andere bezoekers van het NabestaandencafÃ© bij restaurant De Buren.Â  \nWil je meedoen? Of heb je nog een vraag?\nNeem contact op met Mieke Rook\, via 06- 1076 1178 en m.rook@doras.nl en EsmÃ©e Claessen via 06 &#8211; 1230 9940 of e.claessen@doras.nl.
URL:https://doras.nl/event/nabestaanden-cafe/2019-03-18/
LOCATION:Huis van de Wijk de Banne\, Bezaanjachtplein 247\, Amsterdam\, 1034 CR\, Nederland
CATEGORIES:Ontspanning en ontmoeting,Prettig ouder worden
ATTACH;FMTTYPE=image/jpeg:https://doras.nl/wp-content/uploads/2018/07/rouw-en-verlies.jpg
ORGANIZER;CN="Mieke Rook":MAILTO:m.rook@doras.nl
END:VEVENT
BEGIN:VEVENT
DTSTART;TZID=UTC:20190211T103000
DTEND;TZID=UTC:20190211T123000
DTSTAMP:20260419T175906
CREATED:20180608T082455Z
LAST-MODIFIED:20200409T152638Z
UID:10010793-1549881000-1549888200@doras.nl
SUMMARY:Nabestaanden CafÃ©
DESCRIPTION:Door het coronavirus gaat deze activiteit niet door. Wij hopen snel weer een nieuwe datum te kunnen plannen. \nHeb je wel behoefte aan contact? Neem dan contact op met EsmÃ©e Claessen: e.claessen@doras.nl\, (020) 2359 515 of 06 &#8211;Â  1230 9940. \n  \nMisschien wel goed om er expliciet bij te vermelden dat wanneer mensen behoefte hebben aan contact ze ons mogen benaderen. Je mag mijn naam en telefoonnummerÂ  en mailadres er bij zetten\, dan kan ik contact met hen opnemen. \n \n \n \n\n	Heb je een dierbare verloren door overlijden?\n	Heb je behoefte aan contact met andere nabestaanden?\n	Ben je 18 jaar of ouder?\n\nKom naar het Nabestaanden CafÃ©! \nWat is het Nabestaanden CafÃ©?\nHet Nabestaanden CafÃ© zijn bijeenkomsten voor nabestaanden van wie een dierbare is overleden. Iedere bijeenkomst staat een ander thema centraal. Het is een open inloop\, je hoeft je niet aan te melden. \nWaar gaat de bijeenkomst over?\n\n	Hoe ga je om met reacties van je omgeving?\n	Hoe ga je om met emoties in een rouwproces?\n	Hoe ga je om met eenzaamheid?\n	Hoe ga je om met feest- en gedenkdagen?\n	Wat te doen met de persoonlijke bezittingen van uw dierbare?\n\nWat zijn de kosten?\nDe bijeenkomst is gratis. Koffie en thee kun je op eigen kosten aan de bar bestellen. Na afloop is er de mogelijkheid om te lunchen met andere bezoekers van het NabestaandencafÃ© bij restaurant De Buren.Â  \nWil je meedoen? Of heb je nog een vraag?\nNeem contact op met Mieke Rook\, via 06- 1076 1178 en m.rook@doras.nl en EsmÃ©e Claessen via 06 &#8211; 1230 9940 of e.claessen@doras.nl.
URL:https://doras.nl/event/nabestaanden-cafe/2019-02-11/
LOCATION:Huis van de Wijk de Banne\, Bezaanjachtplein 247\, Amsterdam\, 1034 CR\, Nederland
CATEGORIES:Ontspanning en ontmoeting,Prettig ouder worden
ATTACH;FMTTYPE=image/jpeg:https://doras.nl/wp-content/uploads/2018/07/rouw-en-verlies.jpg
ORGANIZER;CN="Mieke Rook":MAILTO:m.rook@doras.nl
END:VEVENT
BEGIN:VEVENT
DTSTART;TZID=UTC:20190121T103000
DTEND;TZID=UTC:20190121T123000
DTSTAMP:20260419T175906
CREATED:20180608T082455Z
LAST-MODIFIED:20200409T152638Z
UID:10010792-1548066600-1548073800@doras.nl
SUMMARY:Nabestaanden CafÃ©
DESCRIPTION:Door het coronavirus gaat deze activiteit niet door. Wij hopen snel weer een nieuwe datum te kunnen plannen. \nHeb je wel behoefte aan contact? Neem dan contact op met EsmÃ©e Claessen: e.claessen@doras.nl\, (020) 2359 515 of 06 &#8211;Â  1230 9940. \n  \nMisschien wel goed om er expliciet bij te vermelden dat wanneer mensen behoefte hebben aan contact ze ons mogen benaderen. Je mag mijn naam en telefoonnummerÂ  en mailadres er bij zetten\, dan kan ik contact met hen opnemen. \n \n \n \n\n	Heb je een dierbare verloren door overlijden?\n	Heb je behoefte aan contact met andere nabestaanden?\n	Ben je 18 jaar of ouder?\n\nKom naar het Nabestaanden CafÃ©! \nWat is het Nabestaanden CafÃ©?\nHet Nabestaanden CafÃ© zijn bijeenkomsten voor nabestaanden van wie een dierbare is overleden. Iedere bijeenkomst staat een ander thema centraal. Het is een open inloop\, je hoeft je niet aan te melden. \nWaar gaat de bijeenkomst over?\n\n	Hoe ga je om met reacties van je omgeving?\n	Hoe ga je om met emoties in een rouwproces?\n	Hoe ga je om met eenzaamheid?\n	Hoe ga je om met feest- en gedenkdagen?\n	Wat te doen met de persoonlijke bezittingen van uw dierbare?\n\nWat zijn de kosten?\nDe bijeenkomst is gratis. Koffie en thee kun je op eigen kosten aan de bar bestellen. Na afloop is er de mogelijkheid om te lunchen met andere bezoekers van het NabestaandencafÃ© bij restaurant De Buren.Â  \nWil je meedoen? Of heb je nog een vraag?\nNeem contact op met Mieke Rook\, via 06- 1076 1178 en m.rook@doras.nl en EsmÃ©e Claessen via 06 &#8211; 1230 9940 of e.claessen@doras.nl.
URL:https://doras.nl/event/nabestaanden-cafe/2019-01-21/
LOCATION:Huis van de Wijk de Banne\, Bezaanjachtplein 247\, Amsterdam\, 1034 CR\, Nederland
CATEGORIES:Ontspanning en ontmoeting,Prettig ouder worden
ATTACH;FMTTYPE=image/jpeg:https://doras.nl/wp-content/uploads/2018/07/rouw-en-verlies.jpg
ORGANIZER;CN="Mieke Rook":MAILTO:m.rook@doras.nl
END:VEVENT
BEGIN:VEVENT
DTSTART;TZID=UTC:20181203T103000
DTEND;TZID=UTC:20181203T123000
DTSTAMP:20260419T175906
CREATED:20180608T082455Z
LAST-MODIFIED:20200409T152638Z
UID:10010791-1543833000-1543840200@doras.nl
SUMMARY:Nabestaanden CafÃ©
DESCRIPTION:Door het coronavirus gaat deze activiteit niet door. Wij hopen snel weer een nieuwe datum te kunnen plannen. \nHeb je wel behoefte aan contact? Neem dan contact op met EsmÃ©e Claessen: e.claessen@doras.nl\, (020) 2359 515 of 06 &#8211;Â  1230 9940. \n  \nMisschien wel goed om er expliciet bij te vermelden dat wanneer mensen behoefte hebben aan contact ze ons mogen benaderen. Je mag mijn naam en telefoonnummerÂ  en mailadres er bij zetten\, dan kan ik contact met hen opnemen. \n \n \n \n\n	Heb je een dierbare verloren door overlijden?\n	Heb je behoefte aan contact met andere nabestaanden?\n	Ben je 18 jaar of ouder?\n\nKom naar het Nabestaanden CafÃ©! \nWat is het Nabestaanden CafÃ©?\nHet Nabestaanden CafÃ© zijn bijeenkomsten voor nabestaanden van wie een dierbare is overleden. Iedere bijeenkomst staat een ander thema centraal. Het is een open inloop\, je hoeft je niet aan te melden. \nWaar gaat de bijeenkomst over?\n\n	Hoe ga je om met reacties van je omgeving?\n	Hoe ga je om met emoties in een rouwproces?\n	Hoe ga je om met eenzaamheid?\n	Hoe ga je om met feest- en gedenkdagen?\n	Wat te doen met de persoonlijke bezittingen van uw dierbare?\n\nWat zijn de kosten?\nDe bijeenkomst is gratis. Koffie en thee kun je op eigen kosten aan de bar bestellen. Na afloop is er de mogelijkheid om te lunchen met andere bezoekers van het NabestaandencafÃ© bij restaurant De Buren.Â  \nWil je meedoen? Of heb je nog een vraag?\nNeem contact op met Mieke Rook\, via 06- 1076 1178 en m.rook@doras.nl en EsmÃ©e Claessen via 06 &#8211; 1230 9940 of e.claessen@doras.nl.
URL:https://doras.nl/event/nabestaanden-cafe/2018-12-03/
LOCATION:Huis van de Wijk de Banne\, Bezaanjachtplein 247\, Amsterdam\, 1034 CR\, Nederland
CATEGORIES:Ontspanning en ontmoeting,Prettig ouder worden
ATTACH;FMTTYPE=image/jpeg:https://doras.nl/wp-content/uploads/2018/07/rouw-en-verlies.jpg
ORGANIZER;CN="Mieke Rook":MAILTO:m.rook@doras.nl
END:VEVENT
BEGIN:VEVENT
DTSTART;TZID=UTC:20181105T103000
DTEND;TZID=UTC:20181105T123000
DTSTAMP:20260419T175906
CREATED:20180608T082455Z
LAST-MODIFIED:20200409T152638Z
UID:10010790-1541413800-1541421000@doras.nl
SUMMARY:Nabestaanden CafÃ©
DESCRIPTION:Door het coronavirus gaat deze activiteit niet door. Wij hopen snel weer een nieuwe datum te kunnen plannen. \nHeb je wel behoefte aan contact? Neem dan contact op met EsmÃ©e Claessen: e.claessen@doras.nl\, (020) 2359 515 of 06 &#8211;Â  1230 9940. \n  \nMisschien wel goed om er expliciet bij te vermelden dat wanneer mensen behoefte hebben aan contact ze ons mogen benaderen. Je mag mijn naam en telefoonnummerÂ  en mailadres er bij zetten\, dan kan ik contact met hen opnemen. \n \n \n \n\n	Heb je een dierbare verloren door overlijden?\n	Heb je behoefte aan contact met andere nabestaanden?\n	Ben je 18 jaar of ouder?\n\nKom naar het Nabestaanden CafÃ©! \nWat is het Nabestaanden CafÃ©?\nHet Nabestaanden CafÃ© zijn bijeenkomsten voor nabestaanden van wie een dierbare is overleden. Iedere bijeenkomst staat een ander thema centraal. Het is een open inloop\, je hoeft je niet aan te melden. \nWaar gaat de bijeenkomst over?\n\n	Hoe ga je om met reacties van je omgeving?\n	Hoe ga je om met emoties in een rouwproces?\n	Hoe ga je om met eenzaamheid?\n	Hoe ga je om met feest- en gedenkdagen?\n	Wat te doen met de persoonlijke bezittingen van uw dierbare?\n\nWat zijn de kosten?\nDe bijeenkomst is gratis. Koffie en thee kun je op eigen kosten aan de bar bestellen. Na afloop is er de mogelijkheid om te lunchen met andere bezoekers van het NabestaandencafÃ© bij restaurant De Buren.Â  \nWil je meedoen? Of heb je nog een vraag?\nNeem contact op met Mieke Rook\, via 06- 1076 1178 en m.rook@doras.nl en EsmÃ©e Claessen via 06 &#8211; 1230 9940 of e.claessen@doras.nl.
URL:https://doras.nl/event/nabestaanden-cafe/2018-11-05/
LOCATION:Huis van de Wijk de Banne\, Bezaanjachtplein 247\, Amsterdam\, 1034 CR\, Nederland
CATEGORIES:Ontspanning en ontmoeting,Prettig ouder worden
ATTACH;FMTTYPE=image/jpeg:https://doras.nl/wp-content/uploads/2018/07/rouw-en-verlies.jpg
ORGANIZER;CN="Mieke Rook":MAILTO:m.rook@doras.nl
END:VEVENT
BEGIN:VEVENT
DTSTART;TZID=UTC:20181008T103000
DTEND;TZID=UTC:20181008T123000
DTSTAMP:20260419T175906
CREATED:20180608T082455Z
LAST-MODIFIED:20200409T152638Z
UID:10010789-1538994600-1539001800@doras.nl
SUMMARY:Nabestaanden CafÃ©
DESCRIPTION:Door het coronavirus gaat deze activiteit niet door. Wij hopen snel weer een nieuwe datum te kunnen plannen. \nHeb je wel behoefte aan contact? Neem dan contact op met EsmÃ©e Claessen: e.claessen@doras.nl\, (020) 2359 515 of 06 &#8211;Â  1230 9940. \n  \nMisschien wel goed om er expliciet bij te vermelden dat wanneer mensen behoefte hebben aan contact ze ons mogen benaderen. Je mag mijn naam en telefoonnummerÂ  en mailadres er bij zetten\, dan kan ik contact met hen opnemen. \n \n \n \n\n	Heb je een dierbare verloren door overlijden?\n	Heb je behoefte aan contact met andere nabestaanden?\n	Ben je 18 jaar of ouder?\n\nKom naar het Nabestaanden CafÃ©! \nWat is het Nabestaanden CafÃ©?\nHet Nabestaanden CafÃ© zijn bijeenkomsten voor nabestaanden van wie een dierbare is overleden. Iedere bijeenkomst staat een ander thema centraal. Het is een open inloop\, je hoeft je niet aan te melden. \nWaar gaat de bijeenkomst over?\n\n	Hoe ga je om met reacties van je omgeving?\n	Hoe ga je om met emoties in een rouwproces?\n	Hoe ga je om met eenzaamheid?\n	Hoe ga je om met feest- en gedenkdagen?\n	Wat te doen met de persoonlijke bezittingen van uw dierbare?\n\nWat zijn de kosten?\nDe bijeenkomst is gratis. Koffie en thee kun je op eigen kosten aan de bar bestellen. Na afloop is er de mogelijkheid om te lunchen met andere bezoekers van het NabestaandencafÃ© bij restaurant De Buren.Â  \nWil je meedoen? Of heb je nog een vraag?\nNeem contact op met Mieke Rook\, via 06- 1076 1178 en m.rook@doras.nl en EsmÃ©e Claessen via 06 &#8211; 1230 9940 of e.claessen@doras.nl.
URL:https://doras.nl/event/nabestaanden-cafe/2018-10-08/
LOCATION:Huis van de Wijk de Banne\, Bezaanjachtplein 247\, Amsterdam\, 1034 CR\, Nederland
CATEGORIES:Ontspanning en ontmoeting,Prettig ouder worden
ATTACH;FMTTYPE=image/jpeg:https://doras.nl/wp-content/uploads/2018/07/rouw-en-verlies.jpg
ORGANIZER;CN="Mieke Rook":MAILTO:m.rook@doras.nl
END:VEVENT
BEGIN:VEVENT
DTSTART;TZID=UTC:20180910T103000
DTEND;TZID=UTC:20180910T123000
DTSTAMP:20260419T175906
CREATED:20180608T082455Z
LAST-MODIFIED:20200409T152638Z
UID:10010788-1536575400-1536582600@doras.nl
SUMMARY:Nabestaanden CafÃ©
DESCRIPTION:Door het coronavirus gaat deze activiteit niet door. Wij hopen snel weer een nieuwe datum te kunnen plannen. \nHeb je wel behoefte aan contact? Neem dan contact op met EsmÃ©e Claessen: e.claessen@doras.nl\, (020) 2359 515 of 06 &#8211;Â  1230 9940. \n  \nMisschien wel goed om er expliciet bij te vermelden dat wanneer mensen behoefte hebben aan contact ze ons mogen benaderen. Je mag mijn naam en telefoonnummerÂ  en mailadres er bij zetten\, dan kan ik contact met hen opnemen. \n \n \n \n\n	Heb je een dierbare verloren door overlijden?\n	Heb je behoefte aan contact met andere nabestaanden?\n	Ben je 18 jaar of ouder?\n\nKom naar het Nabestaanden CafÃ©! \nWat is het Nabestaanden CafÃ©?\nHet Nabestaanden CafÃ© zijn bijeenkomsten voor nabestaanden van wie een dierbare is overleden. Iedere bijeenkomst staat een ander thema centraal. Het is een open inloop\, je hoeft je niet aan te melden. \nWaar gaat de bijeenkomst over?\n\n	Hoe ga je om met reacties van je omgeving?\n	Hoe ga je om met emoties in een rouwproces?\n	Hoe ga je om met eenzaamheid?\n	Hoe ga je om met feest- en gedenkdagen?\n	Wat te doen met de persoonlijke bezittingen van uw dierbare?\n\nWat zijn de kosten?\nDe bijeenkomst is gratis. Koffie en thee kun je op eigen kosten aan de bar bestellen. Na afloop is er de mogelijkheid om te lunchen met andere bezoekers van het NabestaandencafÃ© bij restaurant De Buren.Â  \nWil je meedoen? Of heb je nog een vraag?\nNeem contact op met Mieke Rook\, via 06- 1076 1178 en m.rook@doras.nl en EsmÃ©e Claessen via 06 &#8211; 1230 9940 of e.claessen@doras.nl.
URL:https://doras.nl/event/nabestaanden-cafe/2018-09-10/
LOCATION:Huis van de Wijk de Banne\, Bezaanjachtplein 247\, Amsterdam\, 1034 CR\, Nederland
CATEGORIES:Ontspanning en ontmoeting,Prettig ouder worden
ATTACH;FMTTYPE=image/jpeg:https://doras.nl/wp-content/uploads/2018/07/rouw-en-verlies.jpg
ORGANIZER;CN="Mieke Rook":MAILTO:m.rook@doras.nl
END:VEVENT
BEGIN:VEVENT
DTSTART;TZID=UTC:20180409T103000
DTEND;TZID=UTC:20180409T123000
DTSTAMP:20260419T175906
CREATED:20180608T082455Z
LAST-MODIFIED:20200409T152638Z
UID:10010787-1523269800-1523277000@doras.nl
SUMMARY:Nabestaanden CafÃ©
DESCRIPTION:Door het coronavirus gaat deze activiteit niet door. Wij hopen snel weer een nieuwe datum te kunnen plannen. \nHeb je wel behoefte aan contact? Neem dan contact op met EsmÃ©e Claessen: e.claessen@doras.nl\, (020) 2359 515 of 06 &#8211;Â  1230 9940. \n  \nMisschien wel goed om er expliciet bij te vermelden dat wanneer mensen behoefte hebben aan contact ze ons mogen benaderen. Je mag mijn naam en telefoonnummerÂ  en mailadres er bij zetten\, dan kan ik contact met hen opnemen. \n \n \n \n\n	Heb je een dierbare verloren door overlijden?\n	Heb je behoefte aan contact met andere nabestaanden?\n	Ben je 18 jaar of ouder?\n\nKom naar het Nabestaanden CafÃ©! \nWat is het Nabestaanden CafÃ©?\nHet Nabestaanden CafÃ© zijn bijeenkomsten voor nabestaanden van wie een dierbare is overleden. Iedere bijeenkomst staat een ander thema centraal. Het is een open inloop\, je hoeft je niet aan te melden. \nWaar gaat de bijeenkomst over?\n\n	Hoe ga je om met reacties van je omgeving?\n	Hoe ga je om met emoties in een rouwproces?\n	Hoe ga je om met eenzaamheid?\n	Hoe ga je om met feest- en gedenkdagen?\n	Wat te doen met de persoonlijke bezittingen van uw dierbare?\n\nWat zijn de kosten?\nDe bijeenkomst is gratis. Koffie en thee kun je op eigen kosten aan de bar bestellen. Na afloop is er de mogelijkheid om te lunchen met andere bezoekers van het NabestaandencafÃ© bij restaurant De Buren.Â  \nWil je meedoen? Of heb je nog een vraag?\nNeem contact op met Mieke Rook\, via 06- 1076 1178 en m.rook@doras.nl en EsmÃ©e Claessen via 06 &#8211; 1230 9940 of e.claessen@doras.nl.
URL:https://doras.nl/event/nabestaanden-cafe/2018-04-09/
LOCATION:Huis van de Wijk de Banne\, Bezaanjachtplein 247\, Amsterdam\, 1034 CR\, Nederland
CATEGORIES:Ontspanning en ontmoeting,Prettig ouder worden
ATTACH;FMTTYPE=image/jpeg:https://doras.nl/wp-content/uploads/2018/07/rouw-en-verlies.jpg
ORGANIZER;CN="Mieke Rook":MAILTO:m.rook@doras.nl
END:VEVENT
END:VCALENDAR