BEGIN:VCALENDAR
VERSION:2.0
PRODID:-//Doras - ECPv6.15.11//NONSGML v1.0//EN
CALSCALE:GREGORIAN
METHOD:PUBLISH
X-ORIGINAL-URL:https://doras.nl
X-WR-CALDESC:Evenementen voor Doras
REFRESH-INTERVAL;VALUE=DURATION:PT1H
X-Robots-Tag:noindex
X-PUBLISHED-TTL:PT1H
BEGIN:VTIMEZONE
TZID:UTC
BEGIN:STANDARD
TZOFFSETFROM:+0000
TZOFFSETTO:+0000
TZNAME:UTC
DTSTART:20180101T000000
END:STANDARD
END:VTIMEZONE
BEGIN:VEVENT
DTSTART;TZID=UTC:20190725T140000
DTEND;TZID=UTC:20190725T153000
DTSTAMP:20260419T221706
CREATED:20190627T151457Z
LAST-MODIFIED:20190723T145537Z
UID:10013059-1564063200-1564068600@doras.nl
SUMMARY:Proef en Kijk de Wijk
DESCRIPTION:Donderdag 25 juli gaan we de wijk ontdekken en wandelen we naar verschillende organisaties en plekken. Zo kun je kennismaken met de buurt en leuke ideeën opdoen voor activiteiten in de zomer. \nVanwege de hitte die voorspeld wordt\, gaan we niet meer wandelen\, maar gezellig picknicken! Ook leuk\, toch? We verzamelen gewoon om 14.00 uur bij het Noorderparkbad. Tijdens het picknicken spelen we misschien wat spelletjes. Ook hebben we een leuke quiz met mooie prijzen om te winnen! De middag duurt tot ongeveer 15.30 uur. \nGratis en leuk! Doe je met ons mee?\nTijd: 14.00 uur bij het Noorderparkbad.\nWe eindigen uiterlijk 17.00 uur in de Tolhuistuin. \nOpgeven kan per sms\, WhatsApp\, even bellen óf mailen:\nEls Annegarn\, 06 &#8211; 1036 8298\, e.annegarn@doras.nl of naar\nAnke van Ruler\, 06 &#8211; 5319 9165\, a.vanruler@doras.nl. \nProef en Kijk in de Wijk is in samenwerking met:\nTolhuistuin\nWinclove Probiotics B.V.
URL:https://doras.nl/event/proef-en-kijk-de-wijk/
LOCATION:Noorderparkbad\, Sneeuwbalweg 5\, Amsterdam\, 1032VS\, Nederland
CATEGORIES:Gezondheid en bewegen,Ontspanning en ontmoeting
ATTACH;FMTTYPE=image/jpeg:https://doras.nl/wp-content/uploads/2019/04/16-e1561649546218.jpg
END:VEVENT
END:VCALENDAR