BEGIN:VCALENDAR
VERSION:2.0
PRODID:-//Doras - ECPv6.15.11//NONSGML v1.0//EN
CALSCALE:GREGORIAN
METHOD:PUBLISH
X-WR-CALNAME:Doras
X-ORIGINAL-URL:https://doras.nl
X-WR-CALDESC:Evenementen voor Doras
REFRESH-INTERVAL;VALUE=DURATION:PT1H
X-Robots-Tag:noindex
X-PUBLISHED-TTL:PT1H
BEGIN:VTIMEZONE
TZID:UTC
BEGIN:STANDARD
TZOFFSETFROM:+0000
TZOFFSETTO:+0000
TZNAME:UTC
DTSTART:20200101T000000
END:STANDARD
END:VTIMEZONE
BEGIN:VEVENT
DTSTART;TZID=UTC:20211020T140000
DTEND;TZID=UTC:20211020T160000
DTSTAMP:20260421T150632
CREATED:20210729T111553Z
LAST-MODIFIED:20220419T133707Z
UID:10014850-1634738400-1634745600@doras.nl
SUMMARY:Bankje van der Pek wekelijks op de van der Pekmarkt
DESCRIPTION:Iedere woensdag tussen 14:00 en 16:00 uur zijn medewerkers van Doras wekelijks op de van der Pekmarkt te vinden! Zo kun je tijdens je rondje op de markt langskomen voor een gezellig gesprek.\nMisschien zoek je een oplossing voor je probleem? Heb je een vraag over opvoeding? Wil je informatie over activiteiten of vrijwilligerswerk? Wil je iets kwijt over je buurt? Maak je je zorgen? Wil je jouw wijk een beetje gezelliger/mooier te maken? \nKom dan gewoon langs!\nWij zitten op de bankjes ter hoogte van Van der Pekstraat nummer 104. Jossin is er iedere week. Alleen niet als het regent. \nWil je meer informatie?\nNeem contact op met Jossin Pook\nTelefoon: 06 1313 2324\nE-mail: j.pook@doras.nl
URL:https://doras.nl/event/bankje-van-der-pek-wekelijks-op-de-van-der-pekmarkt/2021-10-20/
LOCATION:Van der Pekmarkt\, Van der Pekstraat 104\, Amsterdam
CATEGORIES:Ontspanning en ontmoeting
ATTACH;FMTTYPE=image/png:https://doras.nl/wp-content/uploads/2018/05/Jossin-bankje-van-der-pek.png
END:VEVENT
BEGIN:VEVENT
DTSTART;TZID=UTC:20211013T140000
DTEND;TZID=UTC:20211013T160000
DTSTAMP:20260421T150632
CREATED:20210729T111553Z
LAST-MODIFIED:20220419T133707Z
UID:10014849-1634133600-1634140800@doras.nl
SUMMARY:Bankje van der Pek wekelijks op de van der Pekmarkt
DESCRIPTION:Iedere woensdag tussen 14:00 en 16:00 uur zijn medewerkers van Doras wekelijks op de van der Pekmarkt te vinden! Zo kun je tijdens je rondje op de markt langskomen voor een gezellig gesprek.\nMisschien zoek je een oplossing voor je probleem? Heb je een vraag over opvoeding? Wil je informatie over activiteiten of vrijwilligerswerk? Wil je iets kwijt over je buurt? Maak je je zorgen? Wil je jouw wijk een beetje gezelliger/mooier te maken? \nKom dan gewoon langs!\nWij zitten op de bankjes ter hoogte van Van der Pekstraat nummer 104. Jossin is er iedere week. Alleen niet als het regent. \nWil je meer informatie?\nNeem contact op met Jossin Pook\nTelefoon: 06 1313 2324\nE-mail: j.pook@doras.nl
URL:https://doras.nl/event/bankje-van-der-pek-wekelijks-op-de-van-der-pekmarkt/2021-10-13/
LOCATION:Van der Pekmarkt\, Van der Pekstraat 104\, Amsterdam
CATEGORIES:Ontspanning en ontmoeting
ATTACH;FMTTYPE=image/png:https://doras.nl/wp-content/uploads/2018/05/Jossin-bankje-van-der-pek.png
END:VEVENT
BEGIN:VEVENT
DTSTART;TZID=UTC:20211006T140000
DTEND;TZID=UTC:20211006T160000
DTSTAMP:20260421T150632
CREATED:20210729T111553Z
LAST-MODIFIED:20220419T133707Z
UID:10014848-1633528800-1633536000@doras.nl
SUMMARY:Bankje van der Pek wekelijks op de van der Pekmarkt
DESCRIPTION:Iedere woensdag tussen 14:00 en 16:00 uur zijn medewerkers van Doras wekelijks op de van der Pekmarkt te vinden! Zo kun je tijdens je rondje op de markt langskomen voor een gezellig gesprek.\nMisschien zoek je een oplossing voor je probleem? Heb je een vraag over opvoeding? Wil je informatie over activiteiten of vrijwilligerswerk? Wil je iets kwijt over je buurt? Maak je je zorgen? Wil je jouw wijk een beetje gezelliger/mooier te maken? \nKom dan gewoon langs!\nWij zitten op de bankjes ter hoogte van Van der Pekstraat nummer 104. Jossin is er iedere week. Alleen niet als het regent. \nWil je meer informatie?\nNeem contact op met Jossin Pook\nTelefoon: 06 1313 2324\nE-mail: j.pook@doras.nl
URL:https://doras.nl/event/bankje-van-der-pek-wekelijks-op-de-van-der-pekmarkt/2021-10-06/
LOCATION:Van der Pekmarkt\, Van der Pekstraat 104\, Amsterdam
CATEGORIES:Ontspanning en ontmoeting
ATTACH;FMTTYPE=image/png:https://doras.nl/wp-content/uploads/2018/05/Jossin-bankje-van-der-pek.png
END:VEVENT
BEGIN:VEVENT
DTSTART;TZID=UTC:20210929T140000
DTEND;TZID=UTC:20210929T160000
DTSTAMP:20260421T150632
CREATED:20210729T111553Z
LAST-MODIFIED:20220419T133707Z
UID:10014847-1632924000-1632931200@doras.nl
SUMMARY:Bankje van der Pek wekelijks op de van der Pekmarkt
DESCRIPTION:Iedere woensdag tussen 14:00 en 16:00 uur zijn medewerkers van Doras wekelijks op de van der Pekmarkt te vinden! Zo kun je tijdens je rondje op de markt langskomen voor een gezellig gesprek.\nMisschien zoek je een oplossing voor je probleem? Heb je een vraag over opvoeding? Wil je informatie over activiteiten of vrijwilligerswerk? Wil je iets kwijt over je buurt? Maak je je zorgen? Wil je jouw wijk een beetje gezelliger/mooier te maken? \nKom dan gewoon langs!\nWij zitten op de bankjes ter hoogte van Van der Pekstraat nummer 104. Jossin is er iedere week. Alleen niet als het regent. \nWil je meer informatie?\nNeem contact op met Jossin Pook\nTelefoon: 06 1313 2324\nE-mail: j.pook@doras.nl
URL:https://doras.nl/event/bankje-van-der-pek-wekelijks-op-de-van-der-pekmarkt/2021-09-29/
LOCATION:Van der Pekmarkt\, Van der Pekstraat 104\, Amsterdam
CATEGORIES:Ontspanning en ontmoeting
ATTACH;FMTTYPE=image/png:https://doras.nl/wp-content/uploads/2018/05/Jossin-bankje-van-der-pek.png
END:VEVENT
BEGIN:VEVENT
DTSTART;TZID=UTC:20210922T140000
DTEND;TZID=UTC:20210922T160000
DTSTAMP:20260421T150632
CREATED:20210729T111553Z
LAST-MODIFIED:20220419T133707Z
UID:10014846-1632319200-1632326400@doras.nl
SUMMARY:Bankje van der Pek wekelijks op de van der Pekmarkt
DESCRIPTION:Iedere woensdag tussen 14:00 en 16:00 uur zijn medewerkers van Doras wekelijks op de van der Pekmarkt te vinden! Zo kun je tijdens je rondje op de markt langskomen voor een gezellig gesprek.\nMisschien zoek je een oplossing voor je probleem? Heb je een vraag over opvoeding? Wil je informatie over activiteiten of vrijwilligerswerk? Wil je iets kwijt over je buurt? Maak je je zorgen? Wil je jouw wijk een beetje gezelliger/mooier te maken? \nKom dan gewoon langs!\nWij zitten op de bankjes ter hoogte van Van der Pekstraat nummer 104. Jossin is er iedere week. Alleen niet als het regent. \nWil je meer informatie?\nNeem contact op met Jossin Pook\nTelefoon: 06 1313 2324\nE-mail: j.pook@doras.nl
URL:https://doras.nl/event/bankje-van-der-pek-wekelijks-op-de-van-der-pekmarkt/2021-09-22/
LOCATION:Van der Pekmarkt\, Van der Pekstraat 104\, Amsterdam
CATEGORIES:Ontspanning en ontmoeting
ATTACH;FMTTYPE=image/png:https://doras.nl/wp-content/uploads/2018/05/Jossin-bankje-van-der-pek.png
END:VEVENT
BEGIN:VEVENT
DTSTART;TZID=UTC:20210915T140000
DTEND;TZID=UTC:20210915T160000
DTSTAMP:20260421T150632
CREATED:20210729T111553Z
LAST-MODIFIED:20220419T133707Z
UID:10014845-1631714400-1631721600@doras.nl
SUMMARY:Bankje van der Pek wekelijks op de van der Pekmarkt
DESCRIPTION:Iedere woensdag tussen 14:00 en 16:00 uur zijn medewerkers van Doras wekelijks op de van der Pekmarkt te vinden! Zo kun je tijdens je rondje op de markt langskomen voor een gezellig gesprek.\nMisschien zoek je een oplossing voor je probleem? Heb je een vraag over opvoeding? Wil je informatie over activiteiten of vrijwilligerswerk? Wil je iets kwijt over je buurt? Maak je je zorgen? Wil je jouw wijk een beetje gezelliger/mooier te maken? \nKom dan gewoon langs!\nWij zitten op de bankjes ter hoogte van Van der Pekstraat nummer 104. Jossin is er iedere week. Alleen niet als het regent. \nWil je meer informatie?\nNeem contact op met Jossin Pook\nTelefoon: 06 1313 2324\nE-mail: j.pook@doras.nl
URL:https://doras.nl/event/bankje-van-der-pek-wekelijks-op-de-van-der-pekmarkt/2021-09-15/
LOCATION:Van der Pekmarkt\, Van der Pekstraat 104\, Amsterdam
CATEGORIES:Ontspanning en ontmoeting
ATTACH;FMTTYPE=image/png:https://doras.nl/wp-content/uploads/2018/05/Jossin-bankje-van-der-pek.png
END:VEVENT
BEGIN:VEVENT
DTSTART;TZID=UTC:20210908T140000
DTEND;TZID=UTC:20210908T160000
DTSTAMP:20260421T150632
CREATED:20210729T111553Z
LAST-MODIFIED:20220419T133707Z
UID:10014844-1631109600-1631116800@doras.nl
SUMMARY:Bankje van der Pek wekelijks op de van der Pekmarkt
DESCRIPTION:Iedere woensdag tussen 14:00 en 16:00 uur zijn medewerkers van Doras wekelijks op de van der Pekmarkt te vinden! Zo kun je tijdens je rondje op de markt langskomen voor een gezellig gesprek.\nMisschien zoek je een oplossing voor je probleem? Heb je een vraag over opvoeding? Wil je informatie over activiteiten of vrijwilligerswerk? Wil je iets kwijt over je buurt? Maak je je zorgen? Wil je jouw wijk een beetje gezelliger/mooier te maken? \nKom dan gewoon langs!\nWij zitten op de bankjes ter hoogte van Van der Pekstraat nummer 104. Jossin is er iedere week. Alleen niet als het regent. \nWil je meer informatie?\nNeem contact op met Jossin Pook\nTelefoon: 06 1313 2324\nE-mail: j.pook@doras.nl
URL:https://doras.nl/event/bankje-van-der-pek-wekelijks-op-de-van-der-pekmarkt/2021-09-08/
LOCATION:Van der Pekmarkt\, Van der Pekstraat 104\, Amsterdam
CATEGORIES:Ontspanning en ontmoeting
ATTACH;FMTTYPE=image/png:https://doras.nl/wp-content/uploads/2018/05/Jossin-bankje-van-der-pek.png
END:VEVENT
BEGIN:VEVENT
DTSTART;TZID=UTC:20210901T140000
DTEND;TZID=UTC:20210901T160000
DTSTAMP:20260421T150632
CREATED:20210729T111553Z
LAST-MODIFIED:20220419T133707Z
UID:10014843-1630504800-1630512000@doras.nl
SUMMARY:Bankje van der Pek wekelijks op de van der Pekmarkt
DESCRIPTION:Iedere woensdag tussen 14:00 en 16:00 uur zijn medewerkers van Doras wekelijks op de van der Pekmarkt te vinden! Zo kun je tijdens je rondje op de markt langskomen voor een gezellig gesprek.\nMisschien zoek je een oplossing voor je probleem? Heb je een vraag over opvoeding? Wil je informatie over activiteiten of vrijwilligerswerk? Wil je iets kwijt over je buurt? Maak je je zorgen? Wil je jouw wijk een beetje gezelliger/mooier te maken? \nKom dan gewoon langs!\nWij zitten op de bankjes ter hoogte van Van der Pekstraat nummer 104. Jossin is er iedere week. Alleen niet als het regent. \nWil je meer informatie?\nNeem contact op met Jossin Pook\nTelefoon: 06 1313 2324\nE-mail: j.pook@doras.nl
URL:https://doras.nl/event/bankje-van-der-pek-wekelijks-op-de-van-der-pekmarkt/2021-09-01/
LOCATION:Van der Pekmarkt\, Van der Pekstraat 104\, Amsterdam
CATEGORIES:Ontspanning en ontmoeting
ATTACH;FMTTYPE=image/png:https://doras.nl/wp-content/uploads/2018/05/Jossin-bankje-van-der-pek.png
END:VEVENT
BEGIN:VEVENT
DTSTART;TZID=UTC:20210825T140000
DTEND;TZID=UTC:20210825T160000
DTSTAMP:20260421T150632
CREATED:20210729T111553Z
LAST-MODIFIED:20220419T133707Z
UID:10014842-1629900000-1629907200@doras.nl
SUMMARY:Bankje van der Pek wekelijks op de van der Pekmarkt
DESCRIPTION:Iedere woensdag tussen 14:00 en 16:00 uur zijn medewerkers van Doras wekelijks op de van der Pekmarkt te vinden! Zo kun je tijdens je rondje op de markt langskomen voor een gezellig gesprek.\nMisschien zoek je een oplossing voor je probleem? Heb je een vraag over opvoeding? Wil je informatie over activiteiten of vrijwilligerswerk? Wil je iets kwijt over je buurt? Maak je je zorgen? Wil je jouw wijk een beetje gezelliger/mooier te maken? \nKom dan gewoon langs!\nWij zitten op de bankjes ter hoogte van Van der Pekstraat nummer 104. Jossin is er iedere week. Alleen niet als het regent. \nWil je meer informatie?\nNeem contact op met Jossin Pook\nTelefoon: 06 1313 2324\nE-mail: j.pook@doras.nl
URL:https://doras.nl/event/bankje-van-der-pek-wekelijks-op-de-van-der-pekmarkt/2021-08-25/
LOCATION:Van der Pekmarkt\, Van der Pekstraat 104\, Amsterdam
CATEGORIES:Ontspanning en ontmoeting
ATTACH;FMTTYPE=image/png:https://doras.nl/wp-content/uploads/2018/05/Jossin-bankje-van-der-pek.png
END:VEVENT
BEGIN:VEVENT
DTSTART;TZID=UTC:20210818T140000
DTEND;TZID=UTC:20210818T160000
DTSTAMP:20260421T150632
CREATED:20210729T111553Z
LAST-MODIFIED:20220419T133707Z
UID:10014841-1629295200-1629302400@doras.nl
SUMMARY:Bankje van der Pek wekelijks op de van der Pekmarkt
DESCRIPTION:Iedere woensdag tussen 14:00 en 16:00 uur zijn medewerkers van Doras wekelijks op de van der Pekmarkt te vinden! Zo kun je tijdens je rondje op de markt langskomen voor een gezellig gesprek.\nMisschien zoek je een oplossing voor je probleem? Heb je een vraag over opvoeding? Wil je informatie over activiteiten of vrijwilligerswerk? Wil je iets kwijt over je buurt? Maak je je zorgen? Wil je jouw wijk een beetje gezelliger/mooier te maken? \nKom dan gewoon langs!\nWij zitten op de bankjes ter hoogte van Van der Pekstraat nummer 104. Jossin is er iedere week. Alleen niet als het regent. \nWil je meer informatie?\nNeem contact op met Jossin Pook\nTelefoon: 06 1313 2324\nE-mail: j.pook@doras.nl
URL:https://doras.nl/event/bankje-van-der-pek-wekelijks-op-de-van-der-pekmarkt/2021-08-18/
LOCATION:Van der Pekmarkt\, Van der Pekstraat 104\, Amsterdam
CATEGORIES:Ontspanning en ontmoeting
ATTACH;FMTTYPE=image/png:https://doras.nl/wp-content/uploads/2018/05/Jossin-bankje-van-der-pek.png
END:VEVENT
BEGIN:VEVENT
DTSTART;TZID=UTC:20210811T140000
DTEND;TZID=UTC:20210811T160000
DTSTAMP:20260421T150632
CREATED:20210729T111553Z
LAST-MODIFIED:20220419T133707Z
UID:10014840-1628690400-1628697600@doras.nl
SUMMARY:Bankje van der Pek wekelijks op de van der Pekmarkt
DESCRIPTION:Iedere woensdag tussen 14:00 en 16:00 uur zijn medewerkers van Doras wekelijks op de van der Pekmarkt te vinden! Zo kun je tijdens je rondje op de markt langskomen voor een gezellig gesprek.\nMisschien zoek je een oplossing voor je probleem? Heb je een vraag over opvoeding? Wil je informatie over activiteiten of vrijwilligerswerk? Wil je iets kwijt over je buurt? Maak je je zorgen? Wil je jouw wijk een beetje gezelliger/mooier te maken? \nKom dan gewoon langs!\nWij zitten op de bankjes ter hoogte van Van der Pekstraat nummer 104. Jossin is er iedere week. Alleen niet als het regent. \nWil je meer informatie?\nNeem contact op met Jossin Pook\nTelefoon: 06 1313 2324\nE-mail: j.pook@doras.nl
URL:https://doras.nl/event/bankje-van-der-pek-wekelijks-op-de-van-der-pekmarkt/2021-08-11/
LOCATION:Van der Pekmarkt\, Van der Pekstraat 104\, Amsterdam
CATEGORIES:Ontspanning en ontmoeting
ATTACH;FMTTYPE=image/png:https://doras.nl/wp-content/uploads/2018/05/Jossin-bankje-van-der-pek.png
END:VEVENT
BEGIN:VEVENT
DTSTART;TZID=UTC:20210804T140000
DTEND;TZID=UTC:20210804T160000
DTSTAMP:20260421T150632
CREATED:20210729T111553Z
LAST-MODIFIED:20220419T133707Z
UID:10014839-1628085600-1628092800@doras.nl
SUMMARY:Bankje van der Pek wekelijks op de van der Pekmarkt
DESCRIPTION:Iedere woensdag tussen 14:00 en 16:00 uur zijn medewerkers van Doras wekelijks op de van der Pekmarkt te vinden! Zo kun je tijdens je rondje op de markt langskomen voor een gezellig gesprek.\nMisschien zoek je een oplossing voor je probleem? Heb je een vraag over opvoeding? Wil je informatie over activiteiten of vrijwilligerswerk? Wil je iets kwijt over je buurt? Maak je je zorgen? Wil je jouw wijk een beetje gezelliger/mooier te maken? \nKom dan gewoon langs!\nWij zitten op de bankjes ter hoogte van Van der Pekstraat nummer 104. Jossin is er iedere week. Alleen niet als het regent. \nWil je meer informatie?\nNeem contact op met Jossin Pook\nTelefoon: 06 1313 2324\nE-mail: j.pook@doras.nl
URL:https://doras.nl/event/bankje-van-der-pek-wekelijks-op-de-van-der-pekmarkt/2021-08-04/
LOCATION:Van der Pekmarkt\, Van der Pekstraat 104\, Amsterdam
CATEGORIES:Ontspanning en ontmoeting
ATTACH;FMTTYPE=image/png:https://doras.nl/wp-content/uploads/2018/05/Jossin-bankje-van-der-pek.png
END:VEVENT
BEGIN:VEVENT
DTSTART;TZID=UTC:20210728T140000
DTEND;TZID=UTC:20210728T160000
DTSTAMP:20260421T150632
CREATED:20210729T111553Z
LAST-MODIFIED:20220419T133707Z
UID:10014838-1627480800-1627488000@doras.nl
SUMMARY:Bankje van der Pek wekelijks op de van der Pekmarkt
DESCRIPTION:Iedere woensdag tussen 14:00 en 16:00 uur zijn medewerkers van Doras wekelijks op de van der Pekmarkt te vinden! Zo kun je tijdens je rondje op de markt langskomen voor een gezellig gesprek.\nMisschien zoek je een oplossing voor je probleem? Heb je een vraag over opvoeding? Wil je informatie over activiteiten of vrijwilligerswerk? Wil je iets kwijt over je buurt? Maak je je zorgen? Wil je jouw wijk een beetje gezelliger/mooier te maken? \nKom dan gewoon langs!\nWij zitten op de bankjes ter hoogte van Van der Pekstraat nummer 104. Jossin is er iedere week. Alleen niet als het regent. \nWil je meer informatie?\nNeem contact op met Jossin Pook\nTelefoon: 06 1313 2324\nE-mail: j.pook@doras.nl
URL:https://doras.nl/event/bankje-van-der-pek-wekelijks-op-de-van-der-pekmarkt/2021-07-28/
LOCATION:Van der Pekmarkt\, Van der Pekstraat 104\, Amsterdam
CATEGORIES:Ontspanning en ontmoeting
ATTACH;FMTTYPE=image/png:https://doras.nl/wp-content/uploads/2018/05/Jossin-bankje-van-der-pek.png
END:VEVENT
END:VCALENDAR